BEGIN:VCALENDAR
VERSION:2.0
PRODID:-//Epworth Pre-School - ECPv6.15.20//NONSGML v1.0//EN
CALSCALE:GREGORIAN
METHOD:PUBLISH
X-WR-CALNAME:Epworth Pre-School
X-ORIGINAL-URL:https://epworthpreschoolfl.com
X-WR-CALDESC:Events for Epworth Pre-School
REFRESH-INTERVAL;VALUE=DURATION:PT1H
X-Robots-Tag:noindex
X-PUBLISHED-TTL:PT1H
BEGIN:VTIMEZONE
TZID:UTC
BEGIN:STANDARD
TZOFFSETFROM:+0000
TZOFFSETTO:+0000
TZNAME:UTC
DTSTART:20260101T000000
END:STANDARD
END:VTIMEZONE
BEGIN:VEVENT
DTSTART;VALUE=DATE:20270601
DTEND;VALUE=DATE:20270602
DTSTAMP:20260421T110109
CREATED:20260108T214934Z
LAST-MODIFIED:20260108T214934Z
UID:10001226-1811808000-1811894399@epworthpreschoolfl.com
SUMMARY:Summer Camp Starts
DESCRIPTION:
URL:https://epworthpreschoolfl.com/event/summer-camp-starts/
END:VEVENT
BEGIN:VEVENT
DTSTART;VALUE=DATE:20270607
DTEND;VALUE=DATE:20270608
DTSTAMP:20260421T110109
CREATED:20250414T142115Z
LAST-MODIFIED:20250416T150620Z
UID:10001148-1812326400-1812412799@epworthpreschoolfl.com
SUMMARY:Monthly payments are due
DESCRIPTION:
URL:https://epworthpreschoolfl.com/event/monthly-payments-are-due-2-2/2027-06-07/
END:VEVENT
END:VCALENDAR