BEGIN:VCALENDAR
VERSION:2.0
PRODID:-//Epworth Pre-School - ECPv6.15.20//NONSGML v1.0//EN
CALSCALE:GREGORIAN
METHOD:PUBLISH
X-WR-CALNAME:Epworth Pre-School
X-ORIGINAL-URL:https://epworthpreschoolfl.com
X-WR-CALDESC:Events for Epworth Pre-School
REFRESH-INTERVAL;VALUE=DURATION:PT1H
X-Robots-Tag:noindex
X-PUBLISHED-TTL:PT1H
BEGIN:VTIMEZONE
TZID:UTC
BEGIN:STANDARD
TZOFFSETFROM:+0000
TZOFFSETTO:+0000
TZNAME:UTC
DTSTART:20250101T000000
END:STANDARD
END:VTIMEZONE
BEGIN:VEVENT
DTSTART;VALUE=DATE:20260202
DTEND;VALUE=DATE:20260203
DTSTAMP:20260420T104654
CREATED:20250414T142115Z
LAST-MODIFIED:20250416T150620Z
UID:10001135-1769990400-1770076799@epworthpreschoolfl.com
SUMMARY:Monthly payments are due
DESCRIPTION:
URL:https://epworthpreschoolfl.com/event/monthly-payments-are-due-2-2/2026-02-02/
END:VEVENT
BEGIN:VEVENT
DTSTART;VALUE=DATE:20260203
DTEND;VALUE=DATE:20260204
DTSTAMP:20260420T104654
CREATED:20250409T093557Z
LAST-MODIFIED:20250414T142819Z
UID:10001106-1770076800-1770163199@epworthpreschoolfl.com
SUMMARY:Ms. Martha's Birthday
DESCRIPTION:
URL:https://epworthpreschoolfl.com/event/miss-marthas-birthday/
END:VEVENT
BEGIN:VEVENT
DTSTART;VALUE=DATE:20260213
DTEND;VALUE=DATE:20260214
DTSTAMP:20260420T104654
CREATED:20250409T093618Z
LAST-MODIFIED:20250409T093618Z
UID:10001107-1770940800-1771027199@epworthpreschoolfl.com
SUMMARY:Joe DiMaggio Trike a Thon
DESCRIPTION:
URL:https://epworthpreschoolfl.com/event/joe-dimaggio-trike-a-thon-2/
END:VEVENT
BEGIN:VEVENT
DTSTART;VALUE=DATE:20260216
DTEND;VALUE=DATE:20260217
DTSTAMP:20260420T104654
CREATED:20250409T093637Z
LAST-MODIFIED:20250409T093637Z
UID:10001108-1771200000-1771286399@epworthpreschoolfl.com
SUMMARY:Closed for President's Day
DESCRIPTION:
URL:https://epworthpreschoolfl.com/event/closed-for-presidents-day/
END:VEVENT
BEGIN:VEVENT
DTSTART;VALUE=DATE:20260220
DTEND;VALUE=DATE:20260221
DTSTAMP:20260420T104654
CREATED:20250409T093654Z
LAST-MODIFIED:20250409T093654Z
UID:10001109-1771545600-1771631999@epworthpreschoolfl.com
SUMMARY:Western Day
DESCRIPTION:
URL:https://epworthpreschoolfl.com/event/western-day-2/
END:VEVENT
END:VCALENDAR