BEGIN:VCALENDAR
VERSION:2.0
PRODID:-//Epworth Pre-School - ECPv6.15.20//NONSGML v1.0//EN
CALSCALE:GREGORIAN
METHOD:PUBLISH
X-ORIGINAL-URL:https://epworthpreschoolfl.com
X-WR-CALDESC:Events for Epworth Pre-School
REFRESH-INTERVAL;VALUE=DURATION:PT1H
X-Robots-Tag:noindex
X-PUBLISHED-TTL:PT1H
BEGIN:VTIMEZONE
TZID:UTC
BEGIN:STANDARD
TZOFFSETFROM:+0000
TZOFFSETTO:+0000
TZNAME:UTC
DTSTART:20240101T000000
END:STANDARD
END:VTIMEZONE
BEGIN:VEVENT
DTSTART;VALUE=DATE:20251229
DTEND;VALUE=DATE:20260103
DTSTAMP:20260420T122053
CREATED:20250416T145907Z
LAST-MODIFIED:20250416T145907Z
UID:10001192-1766966400-1767398399@epworthpreschoolfl.com
SUMMARY:Christmas Break (School Closed)
DESCRIPTION:
URL:https://epworthpreschoolfl.com/event/christmas-break-school-closed-4/
END:VEVENT
BEGIN:VEVENT
DTSTART;VALUE=DATE:20260105
DTEND;VALUE=DATE:20260106
DTSTAMP:20260420T122053
CREATED:20250414T142115Z
LAST-MODIFIED:20250416T150620Z
UID:10001134-1767571200-1767657599@epworthpreschoolfl.com
SUMMARY:Monthly payments are due
DESCRIPTION:
URL:https://epworthpreschoolfl.com/event/monthly-payments-are-due-2-2/2026-01-05/
END:VEVENT
BEGIN:VEVENT
DTSTART;VALUE=DATE:20260105
DTEND;VALUE=DATE:20260106
DTSTAMP:20260420T122053
CREATED:20250414T174230Z
LAST-MODIFIED:20250414T174230Z
UID:10001186-1767571200-1767657599@epworthpreschoolfl.com
SUMMARY:Classes Resume
DESCRIPTION:
URL:https://epworthpreschoolfl.com/event/classes-resume-3/
END:VEVENT
BEGIN:VEVENT
DTSTART;VALUE=DATE:20260109
DTEND;VALUE=DATE:20260110
DTSTAMP:20260420T122053
CREATED:20250414T174309Z
LAST-MODIFIED:20250425T171638Z
UID:10001187-1767916800-1768003199@epworthpreschoolfl.com
SUMMARY:Ms. Jamie's Birthday
DESCRIPTION:
URL:https://epworthpreschoolfl.com/event/ms-jaimes-birthday/
END:VEVENT
BEGIN:VEVENT
DTSTART;VALUE=DATE:20260119
DTEND;VALUE=DATE:20260120
DTSTAMP:20260420T122053
CREATED:20250414T174347Z
LAST-MODIFIED:20250414T174347Z
UID:10001188-1768780800-1768867199@epworthpreschoolfl.com
SUMMARY:Closed for MLK Jr. Day
DESCRIPTION:
URL:https://epworthpreschoolfl.com/event/closed-for-mlk-jr-day/
END:VEVENT
END:VCALENDAR