BEGIN:VCALENDAR
VERSION:2.0
PRODID:-//Epworth Pre-School - ECPv6.15.20//NONSGML v1.0//EN
CALSCALE:GREGORIAN
METHOD:PUBLISH
X-ORIGINAL-URL:https://epworthpreschoolfl.com
X-WR-CALDESC:Events for Epworth Pre-School
REFRESH-INTERVAL;VALUE=DURATION:PT1H
X-Robots-Tag:noindex
X-PUBLISHED-TTL:PT1H
BEGIN:VTIMEZONE
TZID:UTC
BEGIN:STANDARD
TZOFFSETFROM:+0000
TZOFFSETTO:+0000
TZNAME:UTC
DTSTART:20240101T000000
END:STANDARD
END:VTIMEZONE
BEGIN:VEVENT
DTSTART;VALUE=DATE:20251201
DTEND;VALUE=DATE:20251202
DTSTAMP:20260420T140415
CREATED:20250414T142115Z
LAST-MODIFIED:20250416T150620Z
UID:10000399-1764547200-1764633599@epworthpreschoolfl.com
SUMMARY:Monthly payments are due
DESCRIPTION:
URL:https://epworthpreschoolfl.com/event/monthly-payments-are-due-2-2/2025-12-01/
END:VEVENT
BEGIN:VEVENT
DTSTART;VALUE=DATE:20251205
DTEND;VALUE=DATE:20251206
DTSTAMP:20260420T140415
CREATED:20250409T093418Z
LAST-MODIFIED:20250409T093418Z
UID:10001103-1764892800-1764979199@epworthpreschoolfl.com
SUMMARY:Breakfast with Santa
DESCRIPTION:
URL:https://epworthpreschoolfl.com/event/breakfast-with-santa-2/
END:VEVENT
BEGIN:VEVENT
DTSTART;VALUE=DATE:20251212
DTEND;VALUE=DATE:20251213
DTSTAMP:20260420T140415
CREATED:20250409T093451Z
LAST-MODIFIED:20250414T142812Z
UID:10001104-1765497600-1765583999@epworthpreschoolfl.com
SUMMARY:Ms. Odalys' Birthday
DESCRIPTION:
URL:https://epworthpreschoolfl.com/event/miss-odalys-birthday/
END:VEVENT
BEGIN:VEVENT
DTSTART;VALUE=DATE:20251219
DTEND;VALUE=DATE:20251220
DTSTAMP:20260420T140415
CREATED:20250409T093528Z
LAST-MODIFIED:20250409T093528Z
UID:10001105-1766102400-1766188799@epworthpreschoolfl.com
SUMMARY:Christmas Program 7pm
DESCRIPTION:
URL:https://epworthpreschoolfl.com/event/christmas-program-7pm/
END:VEVENT
BEGIN:VEVENT
DTSTART;VALUE=DATE:20251219
DTEND;VALUE=DATE:20251220
DTSTAMP:20260420T140415
CREATED:20250414T163323Z
LAST-MODIFIED:20250414T163323Z
UID:10001185-1766102400-1766188799@epworthpreschoolfl.com
SUMMARY:Ms. Michelle's Birthday
DESCRIPTION:
URL:https://epworthpreschoolfl.com/event/ms-michelles-birthday-2/
END:VEVENT
BEGIN:VEVENT
DTSTART;VALUE=DATE:20251222
DTEND;VALUE=DATE:20251223
DTSTAMP:20260420T140415
CREATED:20250414T143523Z
LAST-MODIFIED:20250414T143523Z
UID:10001184-1766361600-1766447999@epworthpreschoolfl.com
SUMMARY:Ms. Logan's Birthday
DESCRIPTION:
URL:https://epworthpreschoolfl.com/event/ms-logans-birthday-2/
END:VEVENT
BEGIN:VEVENT
DTSTART;VALUE=DATE:20251222
DTEND;VALUE=DATE:20251227
DTSTAMP:20260420T140415
CREATED:20250414T143444Z
LAST-MODIFIED:20250416T145850Z
UID:10001183-1766361600-1766793599@epworthpreschoolfl.com
SUMMARY:Christmas Break (School Closed)
DESCRIPTION:
URL:https://epworthpreschoolfl.com/event/christmas-break-school-closed-3/
END:VEVENT
BEGIN:VEVENT
DTSTART;VALUE=DATE:20251229
DTEND;VALUE=DATE:20260103
DTSTAMP:20260420T140415
CREATED:20250416T145907Z
LAST-MODIFIED:20250416T145907Z
UID:10001192-1766966400-1767398399@epworthpreschoolfl.com
SUMMARY:Christmas Break (School Closed)
DESCRIPTION:
URL:https://epworthpreschoolfl.com/event/christmas-break-school-closed-4/
END:VEVENT
END:VCALENDAR