BEGIN:VCALENDAR
VERSION:2.0
PRODID:-//Epworth Pre-School - ECPv6.15.20//NONSGML v1.0//EN
CALSCALE:GREGORIAN
METHOD:PUBLISH
X-WR-CALNAME:Epworth Pre-School
X-ORIGINAL-URL:https://epworthpreschoolfl.com
X-WR-CALDESC:Events for Epworth Pre-School
REFRESH-INTERVAL;VALUE=DURATION:PT1H
X-Robots-Tag:noindex
X-PUBLISHED-TTL:PT1H
BEGIN:VTIMEZONE
TZID:UTC
BEGIN:STANDARD
TZOFFSETFROM:+0000
TZOFFSETTO:+0000
TZNAME:UTC
DTSTART:20240101T000000
END:STANDARD
END:VTIMEZONE
BEGIN:VEVENT
DTSTART;VALUE=DATE:20251001
DTEND;VALUE=DATE:20251002
DTSTAMP:20260420T185735
CREATED:20250414T142115Z
LAST-MODIFIED:20250416T150620Z
UID:10001193-1759305600-1759338000@epworthpreschoolfl.com
SUMMARY:Monthly payments are due
DESCRIPTION:
URL:https://epworthpreschoolfl.com/event/monthly-payments-are-due-2-2/2025-10-01/
END:VEVENT
BEGIN:VEVENT
DTSTART;TZID=UTC:20251025T150000
DTEND;TZID=UTC:20251025T180000
DTSTAMP:20260420T185735
CREATED:20251001T142015Z
LAST-MODIFIED:20251001T142015Z
UID:10001197-1761404400-1761415200@epworthpreschoolfl.com
SUMMARY:Epworth Preschool's 60th Birthday Bash  3pm-6pm
DESCRIPTION:
URL:https://epworthpreschoolfl.com/event/epworth-preschools-60th-birthday-bash-3pm-6pm/
END:VEVENT
BEGIN:VEVENT
DTSTART;VALUE=DATE:20251031
DTEND;VALUE=DATE:20251101
DTSTAMP:20260420T185735
CREATED:20250409T093227Z
LAST-MODIFIED:20250409T093227Z
UID:10001098-1761868800-1761955199@epworthpreschoolfl.com
SUMMARY:Fall Festival
DESCRIPTION:
URL:https://epworthpreschoolfl.com/event/fall-festival-3/
END:VEVENT
END:VCALENDAR