BEGIN:VCALENDAR
VERSION:2.0
PRODID:-//Epworth Pre-School - ECPv6.15.20//NONSGML v1.0//EN
CALSCALE:GREGORIAN
METHOD:PUBLISH
X-ORIGINAL-URL:https://epworthpreschoolfl.com
X-WR-CALDESC:Events for Epworth Pre-School
REFRESH-INTERVAL;VALUE=DURATION:PT1H
X-Robots-Tag:noindex
X-PUBLISHED-TTL:PT1H
BEGIN:VTIMEZONE
TZID:UTC
BEGIN:STANDARD
TZOFFSETFROM:+0000
TZOFFSETTO:+0000
TZNAME:UTC
DTSTART:20240101T000000
END:STANDARD
END:VTIMEZONE
BEGIN:VEVENT
DTSTART;VALUE=DATE:20250801
DTEND;VALUE=DATE:20250802
DTSTAMP:20260420T221156
CREATED:20250114T163702Z
LAST-MODIFIED:20250116T175124Z
UID:10001078-1754006400-1754092799@epworthpreschoolfl.com
SUMMARY:WATER DAYPizza Party SlideSnow conesCotton candy
DESCRIPTION:
URL:https://epworthpreschoolfl.com/event/water-daypizza-partysnow-conescotton-candy-slide/
END:VEVENT
BEGIN:VEVENT
DTSTART;VALUE=DATE:20250804
DTEND;VALUE=DATE:20250809
DTSTAMP:20260420T221156
CREATED:20250114T163734Z
LAST-MODIFIED:20250114T163734Z
UID:10001079-1754265600-1754697599@epworthpreschoolfl.com
SUMMARY:Closed to prep for 25-26 school year
DESCRIPTION:
URL:https://epworthpreschoolfl.com/event/closed-to-prep-for-25-26-school-year/
END:VEVENT
BEGIN:VEVENT
DTSTART;VALUE=DATE:20250805
DTEND;VALUE=DATE:20250806
DTSTAMP:20260420T221156
CREATED:20250114T163802Z
LAST-MODIFIED:20250116T175217Z
UID:10001080-1754352000-1754438399@epworthpreschoolfl.com
SUMMARY:Ms. Shapiera's Birthday
DESCRIPTION:
URL:https://epworthpreschoolfl.com/event/ms-shapieras-birthday-2/
END:VEVENT
BEGIN:VEVENT
DTSTART;VALUE=DATE:20250810
DTEND;VALUE=DATE:20250811
DTSTAMP:20260420T221156
CREATED:20250114T163831Z
LAST-MODIFIED:20250114T163831Z
UID:10001081-1754784000-1754870399@epworthpreschoolfl.com
SUMMARY:Open House 1-3
DESCRIPTION:
URL:https://epworthpreschoolfl.com/event/open-house-1-3/
END:VEVENT
BEGIN:VEVENT
DTSTART;VALUE=DATE:20250811
DTEND;VALUE=DATE:20250812
DTSTAMP:20260420T221156
CREATED:20250114T211013Z
LAST-MODIFIED:20250114T211013Z
UID:10001083-1754870400-1754956799@epworthpreschoolfl.com
SUMMARY:1st Day of School
DESCRIPTION:
URL:https://epworthpreschoolfl.com/event/1st-day-of-school/
END:VEVENT
BEGIN:VEVENT
DTSTART;VALUE=DATE:20250811
DTEND;VALUE=DATE:20250812
DTSTAMP:20260420T221156
CREATED:20250414T142115Z
LAST-MODIFIED:20250416T150620Z
UID:10001189-1754899200-1754931600@epworthpreschoolfl.com
SUMMARY:Monthly payments are due
DESCRIPTION:
URL:https://epworthpreschoolfl.com/event/monthly-payments-are-due-2-2/2025-08-11/
END:VEVENT
BEGIN:VEVENT
DTSTART;VALUE=DATE:20250814
DTEND;VALUE=DATE:20250815
DTSTAMP:20260420T221156
CREATED:20250114T163915Z
LAST-MODIFIED:20250116T175223Z
UID:10001082-1755129600-1755215999@epworthpreschoolfl.com
SUMMARY:Ms. Arlethe's Birthday
DESCRIPTION:
URL:https://epworthpreschoolfl.com/event/ms-arlethes-birthday-2/
END:VEVENT
END:VCALENDAR