BEGIN:VCALENDAR
VERSION:2.0
PRODID:-//Epworth Pre-School - ECPv6.15.20//NONSGML v1.0//EN
CALSCALE:GREGORIAN
METHOD:PUBLISH
X-ORIGINAL-URL:https://epworthpreschoolfl.com
X-WR-CALDESC:Events for Epworth Pre-School
REFRESH-INTERVAL;VALUE=DURATION:PT1H
X-Robots-Tag:noindex
X-PUBLISHED-TTL:PT1H
BEGIN:VTIMEZONE
TZID:UTC
BEGIN:STANDARD
TZOFFSETFROM:+0000
TZOFFSETTO:+0000
TZNAME:UTC
DTSTART:20240101T000000
END:STANDARD
END:VTIMEZONE
BEGIN:VEVENT
DTSTART;VALUE=DATE:20250603
DTEND;VALUE=DATE:20250604
DTSTAMP:20260421T013732
CREATED:20240424T185429Z
LAST-MODIFIED:20240424T185429Z
UID:10000908-1748908800-1748995199@epworthpreschoolfl.com
SUMMARY:Last day of school
DESCRIPTION:
URL:https://epworthpreschoolfl.com/event/last-day-of-school-3/
END:VEVENT
BEGIN:VEVENT
DTSTART;VALUE=DATE:20250604
DTEND;VALUE=DATE:20250607
DTSTAMP:20260421T013732
CREATED:20250114T161520Z
LAST-MODIFIED:20250114T161520Z
UID:10001042-1748995200-1749254399@epworthpreschoolfl.com
SUMMARY:Closed for cleaning/prep for camp
DESCRIPTION:
URL:https://epworthpreschoolfl.com/event/closed-for-cleaning-prep-for-camp/
END:VEVENT
BEGIN:VEVENT
DTSTART;VALUE=DATE:20250608
DTEND;VALUE=DATE:20250609
DTSTAMP:20260421T013732
CREATED:20250114T162050Z
LAST-MODIFIED:20250114T162050Z
UID:10001053-1749340800-1749427199@epworthpreschoolfl.com
SUMMARY:Week #1 Camping
DESCRIPTION:
URL:https://epworthpreschoolfl.com/event/week-1-camping-2/
END:VEVENT
BEGIN:VEVENT
DTSTART;VALUE=DATE:20250609
DTEND;VALUE=DATE:20250610
DTSTAMP:20260421T013732
CREATED:20250114T161559Z
LAST-MODIFIED:20250114T161559Z
UID:10001043-1749427200-1749513599@epworthpreschoolfl.com
SUMMARY:First day of Summer Camp
DESCRIPTION:
URL:https://epworthpreschoolfl.com/event/first-day-of-summer-camp/
END:VEVENT
BEGIN:VEVENT
DTSTART;VALUE=DATE:20250613
DTEND;VALUE=DATE:20250614
DTSTAMP:20260421T013732
CREATED:20250114T161628Z
LAST-MODIFIED:20250114T161717Z
UID:10001044-1749772800-1749859199@epworthpreschoolfl.com
SUMMARY:NO WATER DAY
DESCRIPTION:
URL:https://epworthpreschoolfl.com/event/no-water-day-2/
END:VEVENT
BEGIN:VEVENT
DTSTART;VALUE=DATE:20250613
DTEND;VALUE=DATE:20250614
DTSTAMP:20260421T013732
CREATED:20250114T162129Z
LAST-MODIFIED:20250116T174502Z
UID:10001055-1749772800-1749859199@epworthpreschoolfl.com
SUMMARY:Exotic Animal Show
DESCRIPTION:
URL:https://epworthpreschoolfl.com/event/exotic-animal-show/
END:VEVENT
BEGIN:VEVENT
DTSTART;VALUE=DATE:20250615
DTEND;VALUE=DATE:20250616
DTSTAMP:20260421T013732
CREATED:20250114T162154Z
LAST-MODIFIED:20250114T162154Z
UID:10001056-1749945600-1750031999@epworthpreschoolfl.com
SUMMARY:WEEK #2 Farm fun/Wild West
DESCRIPTION:
URL:https://epworthpreschoolfl.com/event/week-2-farm-fun-wild-west/
END:VEVENT
BEGIN:VEVENT
DTSTART;VALUE=DATE:20250616
DTEND;VALUE=DATE:20250617
DTSTAMP:20260421T013732
CREATED:20250114T161744Z
LAST-MODIFIED:20250114T161744Z
UID:10001045-1750032000-1750118399@epworthpreschoolfl.com
SUMMARY:PONY RIDES
DESCRIPTION:
URL:https://epworthpreschoolfl.com/event/pony-rides-2/
END:VEVENT
BEGIN:VEVENT
DTSTART;VALUE=DATE:20250618
DTEND;VALUE=DATE:20250619
DTSTAMP:20260421T013732
CREATED:20250114T161801Z
LAST-MODIFIED:20250114T161801Z
UID:10001046-1750204800-1750291199@epworthpreschoolfl.com
SUMMARY:PETTING ZOO
DESCRIPTION:
URL:https://epworthpreschoolfl.com/event/petting-zoo-2/
END:VEVENT
BEGIN:VEVENT
DTSTART;VALUE=DATE:20250620
DTEND;VALUE=DATE:20250621
DTSTAMP:20260421T013732
CREATED:20250114T161841Z
LAST-MODIFIED:20250114T161841Z
UID:10001047-1750377600-1750463999@epworthpreschoolfl.com
SUMMARY:WATER DAY
DESCRIPTION:
URL:https://epworthpreschoolfl.com/event/water-day-2/
END:VEVENT
BEGIN:VEVENT
DTSTART;VALUE=DATE:20250622
DTEND;VALUE=DATE:20250623
DTSTAMP:20260421T013732
CREATED:20250114T162227Z
LAST-MODIFIED:20250114T162227Z
UID:10001057-1750550400-1750636799@epworthpreschoolfl.com
SUMMARY:Week #3 Sports/Spirit
DESCRIPTION:
URL:https://epworthpreschoolfl.com/event/week-3-sports-spirit/
END:VEVENT
BEGIN:VEVENT
DTSTART;VALUE=DATE:20250623
DTEND;VALUE=DATE:20250624
DTSTAMP:20260421T013732
CREATED:20250114T162252Z
LAST-MODIFIED:20250114T162252Z
UID:10001058-1750636800-1750723199@epworthpreschoolfl.com
SUMMARY:Crazy Hat Day  Wear a crazy hat
DESCRIPTION:
URL:https://epworthpreschoolfl.com/event/crazy-hat-day-wear-a-crazy-hat-2/
END:VEVENT
BEGIN:VEVENT
DTSTART;VALUE=DATE:20250624
DTEND;VALUE=DATE:20250625
DTSTAMP:20260421T013732
CREATED:20250114T162330Z
LAST-MODIFIED:20250114T162330Z
UID:10001059-1750723200-1750809599@epworthpreschoolfl.com
SUMMARY:Crazy sock Day  Wear crazy socks
DESCRIPTION:
URL:https://epworthpreschoolfl.com/event/crazy-sock-day-wear-crazy-socks-2/
END:VEVENT
BEGIN:VEVENT
DTSTART;VALUE=DATE:20250625
DTEND;VALUE=DATE:20250626
DTSTAMP:20260421T013732
CREATED:20250114T162356Z
LAST-MODIFIED:20250114T162408Z
UID:10001060-1750809600-1750895999@epworthpreschoolfl.com
SUMMARY:Sports obstacle course  Wear your favorite team shirt
DESCRIPTION:
URL:https://epworthpreschoolfl.com/event/sports-obstacle-course-wear-your-favorite-team-shirt/
END:VEVENT
BEGIN:VEVENT
DTSTART;VALUE=DATE:20250626
DTEND;VALUE=DATE:20250627
DTSTAMP:20260421T013732
CREATED:20250114T162422Z
LAST-MODIFIED:20250114T162422Z
UID:10001061-1750896000-1750982399@epworthpreschoolfl.com
SUMMARY:Crazy hair day
DESCRIPTION:
URL:https://epworthpreschoolfl.com/event/crazy-hair-day-2/
END:VEVENT
BEGIN:VEVENT
DTSTART;VALUE=DATE:20250627
DTEND;VALUE=DATE:20250628
DTSTAMP:20260421T013732
CREATED:20250114T162511Z
LAST-MODIFIED:20250114T162522Z
UID:10001062-1750982400-1751068799@epworthpreschoolfl.com
SUMMARY:WATER DAYPizza Party
DESCRIPTION:
URL:https://epworthpreschoolfl.com/event/water-daypizza-party/
END:VEVENT
BEGIN:VEVENT
DTSTART;VALUE=DATE:20250629
DTEND;VALUE=DATE:20250630
DTSTAMP:20260421T013732
CREATED:20250114T162554Z
LAST-MODIFIED:20250114T162554Z
UID:10001063-1751155200-1751241599@epworthpreschoolfl.com
SUMMARY:Week#4 Happy Birthday USA  Party in the USA
DESCRIPTION:
URL:https://epworthpreschoolfl.com/event/week4-happy-birthday-usa-party-in-the-usa/
END:VEVENT
END:VCALENDAR