BEGIN:VCALENDAR
VERSION:2.0
PRODID:-//Epworth Pre-School - ECPv6.15.20//NONSGML v1.0//EN
CALSCALE:GREGORIAN
METHOD:PUBLISH
X-ORIGINAL-URL:https://epworthpreschoolfl.com
X-WR-CALDESC:Events for Epworth Pre-School
REFRESH-INTERVAL;VALUE=DURATION:PT1H
X-Robots-Tag:noindex
X-PUBLISHED-TTL:PT1H
BEGIN:VTIMEZONE
TZID:UTC
BEGIN:STANDARD
TZOFFSETFROM:+0000
TZOFFSETTO:+0000
TZNAME:UTC
DTSTART:20230101T000000
END:STANDARD
END:VTIMEZONE
BEGIN:VEVENT
DTSTART;VALUE=DATE:20241201
DTEND;VALUE=DATE:20241202
DTSTAMP:20260421T191402
CREATED:20240416T150739Z
LAST-MODIFIED:20250116T174650Z
UID:10000387-1733011200-1733097599@epworthpreschoolfl.com
SUMMARY:Monthly payments are due
DESCRIPTION:
URL:https://epworthpreschoolfl.com/event/monthly-payments-are-due-2/2024-12-01/
END:VEVENT
BEGIN:VEVENT
DTSTART;VALUE=DATE:20241206
DTEND;VALUE=DATE:20241207
DTSTAMP:20260421T191402
CREATED:20240424T184624Z
LAST-MODIFIED:20240424T184624Z
UID:10000894-1733443200-1733529599@epworthpreschoolfl.com
SUMMARY:Breakfast with Santa
DESCRIPTION:
URL:https://epworthpreschoolfl.com/event/breakfast-with-santa/
END:VEVENT
BEGIN:VEVENT
DTSTART;TZID=UTC:20241220T190000
DTEND;TZID=UTC:20241220T190000
DTSTAMP:20260421T191402
CREATED:20240424T184728Z
LAST-MODIFIED:20240424T184728Z
UID:10000895-1734721200-1734721200@epworthpreschoolfl.com
SUMMARY:Christmas Program ( All )
DESCRIPTION:
URL:https://epworthpreschoolfl.com/event/christmas-program-all/
END:VEVENT
BEGIN:VEVENT
DTSTART;VALUE=DATE:20241223
DTEND;VALUE=DATE:20250104
DTSTAMP:20260421T191402
CREATED:20240424T184817Z
LAST-MODIFIED:20240424T184817Z
UID:10000896-1734912000-1735948799@epworthpreschoolfl.com
SUMMARY:Christmas Break ( School Closed )
DESCRIPTION:
URL:https://epworthpreschoolfl.com/event/christmas-break-school-closed-2/
END:VEVENT
END:VCALENDAR