BEGIN:VCALENDAR
VERSION:2.0
PRODID:-//Epworth Pre-School - ECPv6.15.20//NONSGML v1.0//EN
CALSCALE:GREGORIAN
METHOD:PUBLISH
X-WR-CALNAME:Epworth Pre-School
X-ORIGINAL-URL:https://epworthpreschoolfl.com
X-WR-CALDESC:Events for Epworth Pre-School
REFRESH-INTERVAL;VALUE=DURATION:PT1H
X-Robots-Tag:noindex
X-PUBLISHED-TTL:PT1H
BEGIN:VTIMEZONE
TZID:UTC
BEGIN:STANDARD
TZOFFSETFROM:+0000
TZOFFSETTO:+0000
TZNAME:UTC
DTSTART:20230101T000000
END:STANDARD
END:VTIMEZONE
BEGIN:VEVENT
DTSTART;VALUE=DATE:20241101
DTEND;VALUE=DATE:20241102
DTSTAMP:20260421T174305
CREATED:20240416T150739Z
LAST-MODIFIED:20250116T174650Z
UID:10000386-1730419200-1730505599@epworthpreschoolfl.com
SUMMARY:Monthly payments are due
DESCRIPTION:
URL:https://epworthpreschoolfl.com/event/monthly-payments-are-due-2/2024-11-01/
END:VEVENT
BEGIN:VEVENT
DTSTART;VALUE=DATE:20241106
DTEND;VALUE=DATE:20241107
DTSTAMP:20260421T174305
CREATED:20241016T131553Z
LAST-MODIFIED:20241016T131553Z
UID:10001032-1730851200-1730937599@epworthpreschoolfl.com
SUMMARY:K2 & K3 Christmas Photos
DESCRIPTION:
URL:https://epworthpreschoolfl.com/event/k2-k3-christmas-photos-2/
END:VEVENT
BEGIN:VEVENT
DTSTART;VALUE=DATE:20241107
DTEND;VALUE=DATE:20241108
DTSTAMP:20260421T174305
CREATED:20241016T131612Z
LAST-MODIFIED:20241016T131612Z
UID:10001033-1730937600-1731023999@epworthpreschoolfl.com
SUMMARY:VPK Christmas Photos
DESCRIPTION:
URL:https://epworthpreschoolfl.com/event/vpk-christmas-photos-2/
END:VEVENT
BEGIN:VEVENT
DTSTART;VALUE=DATE:20241111
DTEND;VALUE=DATE:20241112
DTSTAMP:20260421T174305
CREATED:20240424T184448Z
LAST-MODIFIED:20240424T184448Z
UID:10000891-1731283200-1731369599@epworthpreschoolfl.com
SUMMARY:Veterans Day ( School closed )
DESCRIPTION:
URL:https://epworthpreschoolfl.com/event/veterans-day-school-closed-2/
END:VEVENT
BEGIN:VEVENT
DTSTART;VALUE=DATE:20241115
DTEND;VALUE=DATE:20241116
DTSTAMP:20260421T174305
CREATED:20241016T131626Z
LAST-MODIFIED:20241016T131626Z
UID:10001034-1731628800-1731715199@epworthpreschoolfl.com
SUMMARY:Chuck E. Cheese Night 3pm-9pm
DESCRIPTION:
URL:https://epworthpreschoolfl.com/event/chuck-e-cheese-night-3pm-9pm/
END:VEVENT
BEGIN:VEVENT
DTSTART;VALUE=DATE:20241122
DTEND;VALUE=DATE:20241123
DTSTAMP:20260421T174305
CREATED:20240424T184517Z
LAST-MODIFIED:20240424T184517Z
UID:10000892-1732233600-1732319999@epworthpreschoolfl.com
SUMMARY:Turkey Trot
DESCRIPTION:
URL:https://epworthpreschoolfl.com/event/turkey-trot/
END:VEVENT
BEGIN:VEVENT
DTSTART;VALUE=DATE:20241128
DTEND;VALUE=DATE:20241130
DTSTAMP:20260421T174305
CREATED:20240424T184556Z
LAST-MODIFIED:20240424T184556Z
UID:10000893-1732752000-1732924799@epworthpreschoolfl.com
SUMMARY:Thanksgiving ( School closed )
DESCRIPTION:
URL:https://epworthpreschoolfl.com/event/thanksgiving-school-closed-2/
END:VEVENT
END:VCALENDAR