BEGIN:VCALENDAR
VERSION:2.0
PRODID:-//Epworth Pre-School - ECPv6.15.20//NONSGML v1.0//EN
CALSCALE:GREGORIAN
METHOD:PUBLISH
X-WR-CALNAME:Epworth Pre-School
X-ORIGINAL-URL:https://epworthpreschoolfl.com
X-WR-CALDESC:Events for Epworth Pre-School
REFRESH-INTERVAL;VALUE=DURATION:PT1H
X-Robots-Tag:noindex
X-PUBLISHED-TTL:PT1H
BEGIN:VTIMEZONE
TZID:UTC
BEGIN:STANDARD
TZOFFSETFROM:+0000
TZOFFSETTO:+0000
TZNAME:UTC
DTSTART:20230101T000000
END:STANDARD
END:VTIMEZONE
BEGIN:VEVENT
DTSTART;VALUE=DATE:20241001
DTEND;VALUE=DATE:20241002
DTSTAMP:20260421T192032
CREATED:20240416T150739Z
LAST-MODIFIED:20250116T174650Z
UID:10000385-1727740800-1727827199@epworthpreschoolfl.com
SUMMARY:Monthly payments are due
DESCRIPTION:
URL:https://epworthpreschoolfl.com/event/monthly-payments-are-due-2/2024-10-01/
END:VEVENT
BEGIN:VEVENT
DTSTART;VALUE=DATE:20241001
DTEND;VALUE=DATE:20241002
DTSTAMP:20260421T192032
CREATED:20240813T190240Z
LAST-MODIFIED:20240813T195012Z
UID:10000935-1727769600-1727802000@epworthpreschoolfl.com
SUMMARY:Weekly payments due
DESCRIPTION:
URL:https://epworthpreschoolfl.com/event/weekly-payments-due-19/2024-10-01/
END:VEVENT
BEGIN:VEVENT
DTSTART;VALUE=DATE:20241001
DTEND;VALUE=DATE:20241002
DTSTAMP:20260421T192032
CREATED:20240813T212535Z
LAST-MODIFIED:20240813T212847Z
UID:10000948-1727769600-1727802000@epworthpreschoolfl.com
SUMMARY:Music
DESCRIPTION:
URL:https://epworthpreschoolfl.com/event/music-51-3-2/2024-10-01/
END:VEVENT
BEGIN:VEVENT
DTSTART;VALUE=DATE:20241002
DTEND;VALUE=DATE:20241003
DTSTAMP:20260421T192032
CREATED:20240813T190609Z
LAST-MODIFIED:20240814T104529Z
UID:10000964-1727856000-1727888400@epworthpreschoolfl.com
SUMMARY:PE
DESCRIPTION:
URL:https://epworthpreschoolfl.com/event/pe-57/2024-10-02/
END:VEVENT
BEGIN:VEVENT
DTSTART;VALUE=DATE:20241003
DTEND;VALUE=DATE:20241004
DTSTAMP:20260421T192032
CREATED:20240813T194644Z
LAST-MODIFIED:20240813T194712Z
UID:10000995-1727913600-1727999999@epworthpreschoolfl.com
SUMMARY:Broward closed. We are Open
DESCRIPTION:
URL:https://epworthpreschoolfl.com/event/broward-closed-we-are-open/2024-10-03/
END:VEVENT
BEGIN:VEVENT
DTSTART;VALUE=DATE:20241003
DTEND;VALUE=DATE:20241004
DTSTAMP:20260421T192032
CREATED:20240813T192344Z
LAST-MODIFIED:20240813T211620Z
UID:10000978-1727942400-1727974800@epworthpreschoolfl.com
SUMMARY:Chapel 10AM
DESCRIPTION:
URL:https://epworthpreschoolfl.com/event/chapel-10am/2024-10-03/
END:VEVENT
BEGIN:VEVENT
DTSTART;VALUE=DATE:20241004
DTEND;VALUE=DATE:20241005
DTSTAMP:20260421T192032
CREATED:20240814T104400Z
LAST-MODIFIED:20240814T104400Z
UID:10001022-1728000000-1728086399@epworthpreschoolfl.com
SUMMARY:School Spirit Day! Make sure to wear ORANGE!
DESCRIPTION:
URL:https://epworthpreschoolfl.com/event/school-spirit-day-make-sure-to-wear-orange/2024-10-04/
END:VEVENT
BEGIN:VEVENT
DTSTART;VALUE=DATE:20241004
DTEND;VALUE=DATE:20241005
DTSTAMP:20260421T192032
CREATED:20240813T212535Z
LAST-MODIFIED:20240813T212847Z
UID:10000949-1728028800-1728061200@epworthpreschoolfl.com
SUMMARY:Music
DESCRIPTION:
URL:https://epworthpreschoolfl.com/event/music-51-3-2/2024-10-04/
END:VEVENT
BEGIN:VEVENT
DTSTART;VALUE=DATE:20241007
DTEND;VALUE=DATE:20241008
DTSTAMP:20260421T192032
CREATED:20240813T190240Z
LAST-MODIFIED:20240813T195012Z
UID:10000936-1728288000-1728320400@epworthpreschoolfl.com
SUMMARY:Weekly payments due
DESCRIPTION:
URL:https://epworthpreschoolfl.com/event/weekly-payments-due-19/2024-10-07/
END:VEVENT
BEGIN:VEVENT
DTSTART;VALUE=DATE:20241007
DTEND;VALUE=DATE:20241008
DTSTAMP:20260421T192032
CREATED:20240813T190609Z
LAST-MODIFIED:20240814T104529Z
UID:10000965-1728288000-1728320400@epworthpreschoolfl.com
SUMMARY:PE
DESCRIPTION:
URL:https://epworthpreschoolfl.com/event/pe-57/2024-10-07/
END:VEVENT
BEGIN:VEVENT
DTSTART;VALUE=DATE:20241008
DTEND;VALUE=DATE:20241009
DTSTAMP:20260421T192032
CREATED:20240813T212535Z
LAST-MODIFIED:20240813T212847Z
UID:10000950-1728374400-1728406800@epworthpreschoolfl.com
SUMMARY:Music
DESCRIPTION:
URL:https://epworthpreschoolfl.com/event/music-51-3-2/2024-10-08/
END:VEVENT
BEGIN:VEVENT
DTSTART;VALUE=DATE:20241009
DTEND;VALUE=DATE:20241010
DTSTAMP:20260421T192032
CREATED:20240813T190609Z
LAST-MODIFIED:20240814T104529Z
UID:10000966-1728460800-1728493200@epworthpreschoolfl.com
SUMMARY:PE
DESCRIPTION:
URL:https://epworthpreschoolfl.com/event/pe-57/2024-10-09/
END:VEVENT
BEGIN:VEVENT
DTSTART;VALUE=DATE:20241010
DTEND;VALUE=DATE:20241011
DTSTAMP:20260421T192032
CREATED:20240813T192344Z
LAST-MODIFIED:20240813T211620Z
UID:10000979-1728547200-1728579600@epworthpreschoolfl.com
SUMMARY:Chapel 10AM
DESCRIPTION:
URL:https://epworthpreschoolfl.com/event/chapel-10am/2024-10-10/
END:VEVENT
BEGIN:VEVENT
DTSTART;VALUE=DATE:20241011
DTEND;VALUE=DATE:20241012
DTSTAMP:20260421T192032
CREATED:20240813T212535Z
LAST-MODIFIED:20240813T212847Z
UID:10000951-1728633600-1728666000@epworthpreschoolfl.com
SUMMARY:Music
DESCRIPTION:
URL:https://epworthpreschoolfl.com/event/music-51-3-2/2024-10-11/
END:VEVENT
BEGIN:VEVENT
DTSTART;VALUE=DATE:20241011
DTEND;VALUE=DATE:20241012
DTSTAMP:20260421T192032
CREATED:20240814T104400Z
LAST-MODIFIED:20240814T104400Z
UID:10001023-1728633600-1728666000@epworthpreschoolfl.com
SUMMARY:School Spirit Day! Make sure to wear ORANGE!
DESCRIPTION:
URL:https://epworthpreschoolfl.com/event/school-spirit-day-make-sure-to-wear-orange/2024-10-11/
END:VEVENT
BEGIN:VEVENT
DTSTART;VALUE=DATE:20241014
DTEND;VALUE=DATE:20241015
DTSTAMP:20260421T192032
CREATED:20240813T190240Z
LAST-MODIFIED:20240813T195012Z
UID:10000937-1728892800-1728925200@epworthpreschoolfl.com
SUMMARY:Weekly payments due
DESCRIPTION:
URL:https://epworthpreschoolfl.com/event/weekly-payments-due-19/2024-10-14/
END:VEVENT
BEGIN:VEVENT
DTSTART;VALUE=DATE:20241014
DTEND;VALUE=DATE:20241015
DTSTAMP:20260421T192032
CREATED:20240813T190609Z
LAST-MODIFIED:20240814T104529Z
UID:10000967-1728892800-1728925200@epworthpreschoolfl.com
SUMMARY:PE
DESCRIPTION:
URL:https://epworthpreschoolfl.com/event/pe-57/2024-10-14/
END:VEVENT
BEGIN:VEVENT
DTSTART;VALUE=DATE:20241014
DTEND;VALUE=DATE:20241015
DTSTAMP:20260421T192032
CREATED:20240813T194644Z
LAST-MODIFIED:20240813T194712Z
UID:10000996-1728892800-1728925200@epworthpreschoolfl.com
SUMMARY:Broward closed. We are Open
DESCRIPTION:
URL:https://epworthpreschoolfl.com/event/broward-closed-we-are-open/2024-10-14/
END:VEVENT
BEGIN:VEVENT
DTSTART;VALUE=DATE:20241015
DTEND;VALUE=DATE:20241016
DTSTAMP:20260421T192032
CREATED:20240813T212535Z
LAST-MODIFIED:20240813T212847Z
UID:10000952-1728979200-1729011600@epworthpreschoolfl.com
SUMMARY:Music
DESCRIPTION:
URL:https://epworthpreschoolfl.com/event/music-51-3-2/2024-10-15/
END:VEVENT
BEGIN:VEVENT
DTSTART;VALUE=DATE:20241016
DTEND;VALUE=DATE:20241017
DTSTAMP:20260421T192032
CREATED:20240813T190609Z
LAST-MODIFIED:20240814T104529Z
UID:10000968-1729065600-1729098000@epworthpreschoolfl.com
SUMMARY:PE
DESCRIPTION:
URL:https://epworthpreschoolfl.com/event/pe-57/2024-10-16/
END:VEVENT
BEGIN:VEVENT
DTSTART;VALUE=DATE:20241017
DTEND;VALUE=DATE:20241018
DTSTAMP:20260421T192032
CREATED:20240813T192344Z
LAST-MODIFIED:20240813T211620Z
UID:10000980-1729152000-1729184400@epworthpreschoolfl.com
SUMMARY:Chapel 10AM
DESCRIPTION:
URL:https://epworthpreschoolfl.com/event/chapel-10am/2024-10-17/
END:VEVENT
BEGIN:VEVENT
DTSTART;VALUE=DATE:20241018
DTEND;VALUE=DATE:20241019
DTSTAMP:20260421T192032
CREATED:20240813T212535Z
LAST-MODIFIED:20240813T212847Z
UID:10000953-1729238400-1729270800@epworthpreschoolfl.com
SUMMARY:Music
DESCRIPTION:
URL:https://epworthpreschoolfl.com/event/music-51-3-2/2024-10-18/
END:VEVENT
BEGIN:VEVENT
DTSTART;VALUE=DATE:20241018
DTEND;VALUE=DATE:20241019
DTSTAMP:20260421T192032
CREATED:20240814T104400Z
LAST-MODIFIED:20240814T104400Z
UID:10001024-1729238400-1729270800@epworthpreschoolfl.com
SUMMARY:School Spirit Day! Make sure to wear ORANGE!
DESCRIPTION:
URL:https://epworthpreschoolfl.com/event/school-spirit-day-make-sure-to-wear-orange/2024-10-18/
END:VEVENT
BEGIN:VEVENT
DTSTART;VALUE=DATE:20241021
DTEND;VALUE=DATE:20241022
DTSTAMP:20260421T192032
CREATED:20240813T190240Z
LAST-MODIFIED:20240813T195012Z
UID:10000938-1729497600-1729530000@epworthpreschoolfl.com
SUMMARY:Weekly payments due
DESCRIPTION:
URL:https://epworthpreschoolfl.com/event/weekly-payments-due-19/2024-10-21/
END:VEVENT
BEGIN:VEVENT
DTSTART;VALUE=DATE:20241021
DTEND;VALUE=DATE:20241022
DTSTAMP:20260421T192032
CREATED:20240813T190609Z
LAST-MODIFIED:20240814T104529Z
UID:10000969-1729497600-1729530000@epworthpreschoolfl.com
SUMMARY:PE
DESCRIPTION:
URL:https://epworthpreschoolfl.com/event/pe-57/2024-10-21/
END:VEVENT
BEGIN:VEVENT
DTSTART;VALUE=DATE:20241022
DTEND;VALUE=DATE:20241023
DTSTAMP:20260421T192032
CREATED:20240813T212535Z
LAST-MODIFIED:20240813T212847Z
UID:10000954-1729584000-1729616400@epworthpreschoolfl.com
SUMMARY:Music
DESCRIPTION:
URL:https://epworthpreschoolfl.com/event/music-51-3-2/2024-10-22/
END:VEVENT
BEGIN:VEVENT
DTSTART;VALUE=DATE:20241023
DTEND;VALUE=DATE:20241024
DTSTAMP:20260421T192032
CREATED:20240813T190609Z
LAST-MODIFIED:20240814T104529Z
UID:10000970-1729670400-1729702800@epworthpreschoolfl.com
SUMMARY:PE
DESCRIPTION:
URL:https://epworthpreschoolfl.com/event/pe-57/2024-10-23/
END:VEVENT
BEGIN:VEVENT
DTSTART;VALUE=DATE:20241024
DTEND;VALUE=DATE:20241025
DTSTAMP:20260421T192032
CREATED:20240813T192344Z
LAST-MODIFIED:20240813T211620Z
UID:10000997-1729756800-1729789200@epworthpreschoolfl.com
SUMMARY:Chapel 10AM
DESCRIPTION:
URL:https://epworthpreschoolfl.com/event/chapel-10am/2024-10-24/
END:VEVENT
BEGIN:VEVENT
DTSTART;VALUE=DATE:20241025
DTEND;VALUE=DATE:20241026
DTSTAMP:20260421T192032
CREATED:20240813T212535Z
LAST-MODIFIED:20240813T212847Z
UID:10000955-1729843200-1729875600@epworthpreschoolfl.com
SUMMARY:Music
DESCRIPTION:
URL:https://epworthpreschoolfl.com/event/music-51-3-2/2024-10-25/
END:VEVENT
BEGIN:VEVENT
DTSTART;VALUE=DATE:20241025
DTEND;VALUE=DATE:20241026
DTSTAMP:20260421T192032
CREATED:20240814T104400Z
LAST-MODIFIED:20240814T104400Z
UID:10001025-1729843200-1729875600@epworthpreschoolfl.com
SUMMARY:School Spirit Day! Make sure to wear ORANGE!
DESCRIPTION:
URL:https://epworthpreschoolfl.com/event/school-spirit-day-make-sure-to-wear-orange/2024-10-25/
END:VEVENT
END:VCALENDAR