BEGIN:VCALENDAR
VERSION:2.0
PRODID:-//Epworth Pre-School - ECPv6.15.20//NONSGML v1.0//EN
CALSCALE:GREGORIAN
METHOD:PUBLISH
X-ORIGINAL-URL:https://epworthpreschoolfl.com
X-WR-CALDESC:Events for Epworth Pre-School
REFRESH-INTERVAL;VALUE=DURATION:PT1H
X-Robots-Tag:noindex
X-PUBLISHED-TTL:PT1H
BEGIN:VTIMEZONE
TZID:UTC
BEGIN:STANDARD
TZOFFSETFROM:+0000
TZOFFSETTO:+0000
TZNAME:UTC
DTSTART:20230101T000000
END:STANDARD
END:VTIMEZONE
BEGIN:VEVENT
DTSTART;VALUE=DATE:20240901
DTEND;VALUE=DATE:20240902
DTSTAMP:20260422T022416
CREATED:20240416T150739Z
LAST-MODIFIED:20250116T174650Z
UID:10001087-1725148800-1725235199@epworthpreschoolfl.com
SUMMARY:Monthly payments are due
DESCRIPTION:
URL:https://epworthpreschoolfl.com/event/monthly-payments-are-due-2/2024-09-01/
END:VEVENT
BEGIN:VEVENT
DTSTART;VALUE=DATE:20240902
DTEND;VALUE=DATE:20240903
DTSTAMP:20260422T022416
CREATED:20240424T184353Z
LAST-MODIFIED:20240424T184353Z
UID:10000889-1725235200-1725321599@epworthpreschoolfl.com
SUMMARY:Labor Day (School closed)
DESCRIPTION:
URL:https://epworthpreschoolfl.com/event/labor-day-school-closed-2/
END:VEVENT
BEGIN:VEVENT
DTSTART;VALUE=DATE:20240903
DTEND;VALUE=DATE:20240904
DTSTAMP:20260422T022416
CREATED:20240813T192206Z
LAST-MODIFIED:20240813T192206Z
UID:10000928-1725321600-1725407999@epworthpreschoolfl.com
SUMMARY:Monthly payments due
DESCRIPTION:
URL:https://epworthpreschoolfl.com/event/monthly-payments-due-7/
END:VEVENT
BEGIN:VEVENT
DTSTART;VALUE=DATE:20240903
DTEND;VALUE=DATE:20240904
DTSTAMP:20260422T022416
CREATED:20240813T190240Z
LAST-MODIFIED:20240813T195012Z
UID:10000931-1725350400-1725382800@epworthpreschoolfl.com
SUMMARY:Weekly payments due
DESCRIPTION:
URL:https://epworthpreschoolfl.com/event/weekly-payments-due-19/2024-09-03/
END:VEVENT
BEGIN:VEVENT
DTSTART;VALUE=DATE:20240903
DTEND;VALUE=DATE:20240904
DTSTAMP:20260422T022416
CREATED:20240813T212535Z
LAST-MODIFIED:20240813T212847Z
UID:10000940-1725350400-1725382800@epworthpreschoolfl.com
SUMMARY:Music
DESCRIPTION:
URL:https://epworthpreschoolfl.com/event/music-51-3-2/2024-09-03/
END:VEVENT
BEGIN:VEVENT
DTSTART;VALUE=DATE:20240904
DTEND;VALUE=DATE:20240905
DTSTAMP:20260422T022416
CREATED:20240813T190609Z
LAST-MODIFIED:20240814T104529Z
UID:10000957-1725436800-1725469200@epworthpreschoolfl.com
SUMMARY:PE
DESCRIPTION:
URL:https://epworthpreschoolfl.com/event/pe-57/2024-09-04/
END:VEVENT
BEGIN:VEVENT
DTSTART;VALUE=DATE:20240905
DTEND;VALUE=DATE:20240906
DTSTAMP:20260422T022416
CREATED:20240813T192344Z
LAST-MODIFIED:20240813T211620Z
UID:10000973-1725523200-1725555600@epworthpreschoolfl.com
SUMMARY:Chapel 10AM
DESCRIPTION:
URL:https://epworthpreschoolfl.com/event/chapel-10am/2024-09-05/
END:VEVENT
BEGIN:VEVENT
DTSTART;VALUE=DATE:20240906
DTEND;VALUE=DATE:20240907
DTSTAMP:20260422T022416
CREATED:20240813T212535Z
LAST-MODIFIED:20240813T212847Z
UID:10000941-1725609600-1725642000@epworthpreschoolfl.com
SUMMARY:Music
DESCRIPTION:
URL:https://epworthpreschoolfl.com/event/music-51-3-2/2024-09-06/
END:VEVENT
BEGIN:VEVENT
DTSTART;VALUE=DATE:20240909
DTEND;VALUE=DATE:20240910
DTSTAMP:20260422T022416
CREATED:20240813T190240Z
LAST-MODIFIED:20240813T195012Z
UID:10000932-1725868800-1725901200@epworthpreschoolfl.com
SUMMARY:Weekly payments due
DESCRIPTION:
URL:https://epworthpreschoolfl.com/event/weekly-payments-due-19/2024-09-09/
END:VEVENT
BEGIN:VEVENT
DTSTART;VALUE=DATE:20240909
DTEND;VALUE=DATE:20240910
DTSTAMP:20260422T022416
CREATED:20240813T190609Z
LAST-MODIFIED:20240814T104529Z
UID:10000958-1725868800-1725901200@epworthpreschoolfl.com
SUMMARY:PE
DESCRIPTION:
URL:https://epworthpreschoolfl.com/event/pe-57/2024-09-09/
END:VEVENT
BEGIN:VEVENT
DTSTART;VALUE=DATE:20240910
DTEND;VALUE=DATE:20240911
DTSTAMP:20260422T022416
CREATED:20240813T193652Z
LAST-MODIFIED:20240813T193652Z
UID:10000991-1725926400-1726012799@epworthpreschoolfl.com
SUMMARY:K2 & K3 Fall Photos
DESCRIPTION:
URL:https://epworthpreschoolfl.com/event/k2-k3-fall-photos/
END:VEVENT
BEGIN:VEVENT
DTSTART;VALUE=DATE:20240910
DTEND;VALUE=DATE:20240911
DTSTAMP:20260422T022416
CREATED:20240814T191031Z
LAST-MODIFIED:20240814T191032Z
UID:10000982-1725926400-1726012799@epworthpreschoolfl.com
SUMMARY:Ms. Susie's Bday
DESCRIPTION:
URL:https://epworthpreschoolfl.com/event/ms-susles-bday-2/
END:VEVENT
BEGIN:VEVENT
DTSTART;VALUE=DATE:20240910
DTEND;VALUE=DATE:20240911
DTSTAMP:20260422T022416
CREATED:20240813T212535Z
LAST-MODIFIED:20240813T212847Z
UID:10000942-1725955200-1725987600@epworthpreschoolfl.com
SUMMARY:Music
DESCRIPTION:
URL:https://epworthpreschoolfl.com/event/music-51-3-2/2024-09-10/
END:VEVENT
BEGIN:VEVENT
DTSTART;VALUE=DATE:20240911
DTEND;VALUE=DATE:20240912
DTSTAMP:20260422T022416
CREATED:20240813T193711Z
LAST-MODIFIED:20240813T193711Z
UID:10000992-1726012800-1726099199@epworthpreschoolfl.com
SUMMARY:VPK Fall Photos
DESCRIPTION:
URL:https://epworthpreschoolfl.com/event/vpk-fall-photos/
END:VEVENT
BEGIN:VEVENT
DTSTART;VALUE=DATE:20240911
DTEND;VALUE=DATE:20240912
DTSTAMP:20260422T022416
CREATED:20240813T190609Z
LAST-MODIFIED:20240814T104529Z
UID:10000959-1726041600-1726074000@epworthpreschoolfl.com
SUMMARY:PE
DESCRIPTION:
URL:https://epworthpreschoolfl.com/event/pe-57/2024-09-11/
END:VEVENT
BEGIN:VEVENT
DTSTART;VALUE=DATE:20240912
DTEND;VALUE=DATE:20240913
DTSTAMP:20260422T022416
CREATED:20240813T192344Z
LAST-MODIFIED:20240813T211620Z
UID:10000974-1726128000-1726160400@epworthpreschoolfl.com
SUMMARY:Chapel 10AM
DESCRIPTION:
URL:https://epworthpreschoolfl.com/event/chapel-10am/2024-09-12/
END:VEVENT
BEGIN:VEVENT
DTSTART;VALUE=DATE:20240913
DTEND;VALUE=DATE:20240914
DTSTAMP:20260422T022416
CREATED:20240813T212535Z
LAST-MODIFIED:20240813T212847Z
UID:10000943-1726214400-1726246800@epworthpreschoolfl.com
SUMMARY:Music
DESCRIPTION:
URL:https://epworthpreschoolfl.com/event/music-51-3-2/2024-09-13/
END:VEVENT
BEGIN:VEVENT
DTSTART;VALUE=DATE:20240916
DTEND;VALUE=DATE:20240917
DTSTAMP:20260422T022416
CREATED:20240813T190240Z
LAST-MODIFIED:20240813T195012Z
UID:10000933-1726473600-1726506000@epworthpreschoolfl.com
SUMMARY:Weekly payments due
DESCRIPTION:
URL:https://epworthpreschoolfl.com/event/weekly-payments-due-19/2024-09-16/
END:VEVENT
BEGIN:VEVENT
DTSTART;VALUE=DATE:20240916
DTEND;VALUE=DATE:20240917
DTSTAMP:20260422T022416
CREATED:20240813T190609Z
LAST-MODIFIED:20240814T104529Z
UID:10000960-1726473600-1726506000@epworthpreschoolfl.com
SUMMARY:PE
DESCRIPTION:
URL:https://epworthpreschoolfl.com/event/pe-57/2024-09-16/
END:VEVENT
BEGIN:VEVENT
DTSTART;VALUE=DATE:20240917
DTEND;VALUE=DATE:20240918
DTSTAMP:20260422T022416
CREATED:20240813T212535Z
LAST-MODIFIED:20240813T212847Z
UID:10000944-1726560000-1726592400@epworthpreschoolfl.com
SUMMARY:Music
DESCRIPTION:
URL:https://epworthpreschoolfl.com/event/music-51-3-2/2024-09-17/
END:VEVENT
BEGIN:VEVENT
DTSTART;VALUE=DATE:20240918
DTEND;VALUE=DATE:20240919
DTSTAMP:20260422T022416
CREATED:20240813T190609Z
LAST-MODIFIED:20240814T104529Z
UID:10000961-1726646400-1726678800@epworthpreschoolfl.com
SUMMARY:PE
DESCRIPTION:
URL:https://epworthpreschoolfl.com/event/pe-57/2024-09-18/
END:VEVENT
BEGIN:VEVENT
DTSTART;VALUE=DATE:20240919
DTEND;VALUE=DATE:20240920
DTSTAMP:20260422T022416
CREATED:20240813T192344Z
LAST-MODIFIED:20240813T211620Z
UID:10000975-1726732800-1726765200@epworthpreschoolfl.com
SUMMARY:Chapel 10AM
DESCRIPTION:
URL:https://epworthpreschoolfl.com/event/chapel-10am/2024-09-19/
END:VEVENT
BEGIN:VEVENT
DTSTART;VALUE=DATE:20240920
DTEND;VALUE=DATE:20240921
DTSTAMP:20260422T022416
CREATED:20240813T212535Z
LAST-MODIFIED:20240813T212847Z
UID:10000945-1726819200-1726851600@epworthpreschoolfl.com
SUMMARY:Music
DESCRIPTION:
URL:https://epworthpreschoolfl.com/event/music-51-3-2/2024-09-20/
END:VEVENT
BEGIN:VEVENT
DTSTART;VALUE=DATE:20240923
DTEND;VALUE=DATE:20240924
DTSTAMP:20260422T022416
CREATED:20240813T190240Z
LAST-MODIFIED:20240813T195012Z
UID:10000994-1727078400-1727110800@epworthpreschoolfl.com
SUMMARY:Weekly payments due
DESCRIPTION:
URL:https://epworthpreschoolfl.com/event/weekly-payments-due-19/2024-09-23/
END:VEVENT
BEGIN:VEVENT
DTSTART;VALUE=DATE:20240923
DTEND;VALUE=DATE:20240924
DTSTAMP:20260422T022416
CREATED:20240813T190609Z
LAST-MODIFIED:20240814T104529Z
UID:10000962-1727078400-1727110800@epworthpreschoolfl.com
SUMMARY:PE
DESCRIPTION:
URL:https://epworthpreschoolfl.com/event/pe-57/2024-09-23/
END:VEVENT
BEGIN:VEVENT
DTSTART;VALUE=DATE:20240924
DTEND;VALUE=DATE:20240925
DTSTAMP:20260422T022416
CREATED:20240813T212535Z
LAST-MODIFIED:20240813T212847Z
UID:10000946-1727164800-1727197200@epworthpreschoolfl.com
SUMMARY:Music
DESCRIPTION:
URL:https://epworthpreschoolfl.com/event/music-51-3-2/2024-09-24/
END:VEVENT
BEGIN:VEVENT
DTSTART;VALUE=DATE:20240925
DTEND;VALUE=DATE:20240926
DTSTAMP:20260422T022416
CREATED:20240813T190609Z
LAST-MODIFIED:20240814T104529Z
UID:10000963-1727251200-1727283600@epworthpreschoolfl.com
SUMMARY:PE
DESCRIPTION:
URL:https://epworthpreschoolfl.com/event/pe-57/2024-09-25/
END:VEVENT
BEGIN:VEVENT
DTSTART;VALUE=DATE:20240926
DTEND;VALUE=DATE:20240927
DTSTAMP:20260422T022416
CREATED:20240813T192344Z
LAST-MODIFIED:20240813T211620Z
UID:10000977-1727337600-1727370000@epworthpreschoolfl.com
SUMMARY:Chapel 10AM
DESCRIPTION:
URL:https://epworthpreschoolfl.com/event/chapel-10am/2024-09-26/
END:VEVENT
BEGIN:VEVENT
DTSTART;VALUE=DATE:20240927
DTEND;VALUE=DATE:20240928
DTSTAMP:20260422T022416
CREATED:20240813T212535Z
LAST-MODIFIED:20240813T212847Z
UID:10000947-1727424000-1727456400@epworthpreschoolfl.com
SUMMARY:Music
DESCRIPTION:
URL:https://epworthpreschoolfl.com/event/music-51-3-2/2024-09-27/
END:VEVENT
BEGIN:VEVENT
DTSTART;VALUE=DATE:20240930
DTEND;VALUE=DATE:20241001
DTSTAMP:20260422T022416
CREATED:20240813T190240Z
LAST-MODIFIED:20240813T195012Z
UID:10000934-1727683200-1727715600@epworthpreschoolfl.com
SUMMARY:Weekly payments due
DESCRIPTION:
URL:https://epworthpreschoolfl.com/event/weekly-payments-due-19/2024-09-30/
END:VEVENT
END:VCALENDAR