BEGIN:VCALENDAR
VERSION:2.0
PRODID:-//Epworth Pre-School - ECPv6.15.20//NONSGML v1.0//EN
CALSCALE:GREGORIAN
METHOD:PUBLISH
X-ORIGINAL-URL:https://epworthpreschoolfl.com
X-WR-CALDESC:Events for Epworth Pre-School
REFRESH-INTERVAL;VALUE=DURATION:PT1H
X-Robots-Tag:noindex
X-PUBLISHED-TTL:PT1H
BEGIN:VTIMEZONE
TZID:UTC
BEGIN:STANDARD
TZOFFSETFROM:+0000
TZOFFSETTO:+0000
TZNAME:UTC
DTSTART:20230101T000000
END:STANDARD
END:VTIMEZONE
BEGIN:VEVENT
DTSTART;VALUE=DATE:20240601
DTEND;VALUE=DATE:20240602
DTSTAMP:20260422T111111
CREATED:20240416T150739Z
LAST-MODIFIED:20250116T174650Z
UID:10001084-1717200000-1717286399@epworthpreschoolfl.com
SUMMARY:Monthly payments are due
DESCRIPTION:
URL:https://epworthpreschoolfl.com/event/monthly-payments-are-due-2/2024-06-01/
END:VEVENT
BEGIN:VEVENT
DTSTART;VALUE=DATE:20240601
DTEND;VALUE=DATE:20240602
DTSTAMP:20260422T111111
CREATED:20240416T155237Z
LAST-MODIFIED:20240416T155237Z
UID:10000717-1717200000-1717286399@epworthpreschoolfl.com
SUMMARY:Ms. Larissa's birthday
DESCRIPTION:
URL:https://epworthpreschoolfl.com/event/ms-larissas-birthday/
END:VEVENT
BEGIN:VEVENT
DTSTART;VALUE=DATE:20240607
DTEND;VALUE=DATE:20240608
DTSTAMP:20260422T111111
CREATED:20240416T155427Z
LAST-MODIFIED:20240416T155427Z
UID:10000718-1717718400-1717804799@epworthpreschoolfl.com
SUMMARY:Last Day of school
DESCRIPTION:
URL:https://epworthpreschoolfl.com/event/last-day-of-school-2/
END:VEVENT
BEGIN:VEVENT
DTSTART;VALUE=DATE:20240609
DTEND;VALUE=DATE:20240610
DTSTAMP:20260422T111111
CREATED:20240416T155503Z
LAST-MODIFIED:20240416T155503Z
UID:10000719-1717891200-1717977599@epworthpreschoolfl.com
SUMMARY:Week 1 Camping
DESCRIPTION:
URL:https://epworthpreschoolfl.com/event/week-1-camping/
END:VEVENT
BEGIN:VEVENT
DTSTART;VALUE=DATE:20240610
DTEND;VALUE=DATE:20240611
DTSTAMP:20260422T111111
CREATED:20230809T103522Z
LAST-MODIFIED:20230809T103522Z
UID:10000023-1717977600-1718063999@epworthpreschoolfl.com
SUMMARY:Last Day Broward County Public School - Early Release
DESCRIPTION:
URL:https://epworthpreschoolfl.com/event/last-day-broward-county-public-school-early-release/
END:VEVENT
BEGIN:VEVENT
DTSTART;VALUE=DATE:20240610
DTEND;VALUE=DATE:20240611
DTSTAMP:20260422T111111
CREATED:20240416T155710Z
LAST-MODIFIED:20240417T123223Z
UID:10000720-1717977600-1718063999@epworthpreschoolfl.com
SUMMARY:Closed - Preparation for summer camp
DESCRIPTION:
URL:https://epworthpreschoolfl.com/event/closed-for-preparation-for-summer-camp/
END:VEVENT
BEGIN:VEVENT
DTSTART;VALUE=DATE:20240611
DTEND;VALUE=DATE:20240612
DTSTAMP:20260422T111111
CREATED:20230809T103608Z
LAST-MODIFIED:20230809T103608Z
UID:10000025-1718064000-1718150399@epworthpreschoolfl.com
SUMMARY:1st Day of Summer Camp
DESCRIPTION:
URL:https://epworthpreschoolfl.com/event/1st-day-of-summer-camp/
END:VEVENT
BEGIN:VEVENT
DTSTART;VALUE=DATE:20240614
DTEND;VALUE=DATE:20240615
DTSTAMP:20260422T111111
CREATED:20240416T155755Z
LAST-MODIFIED:20240416T155755Z
UID:10000722-1718323200-1718409599@epworthpreschoolfl.com
SUMMARY:Exotic Animal show 10am-12pm
DESCRIPTION:
URL:https://epworthpreschoolfl.com/event/exotic-animal-show-10am-12pm/
END:VEVENT
BEGIN:VEVENT
DTSTART;VALUE=DATE:20240614
DTEND;VALUE=DATE:20240615
DTSTAMP:20260422T111111
CREATED:20240416T155808Z
LAST-MODIFIED:20240416T155808Z
UID:10000723-1718323200-1718409599@epworthpreschoolfl.com
SUMMARY:NO WATER DAY
DESCRIPTION:
URL:https://epworthpreschoolfl.com/event/no-water-day/
END:VEVENT
BEGIN:VEVENT
DTSTART;VALUE=DATE:20240616
DTEND;VALUE=DATE:20240617
DTSTAMP:20260422T111111
CREATED:20240416T155827Z
LAST-MODIFIED:20240416T155827Z
UID:10000724-1718496000-1718582399@epworthpreschoolfl.com
SUMMARY:Week 2 Spirit/Sports
DESCRIPTION:
URL:https://epworthpreschoolfl.com/event/week-2-spirit-sports/
END:VEVENT
BEGIN:VEVENT
DTSTART;VALUE=DATE:20240617
DTEND;VALUE=DATE:20240618
DTSTAMP:20260422T111111
CREATED:20240417T133606Z
LAST-MODIFIED:20240417T133606Z
UID:10000876-1718582400-1718668799@epworthpreschoolfl.com
SUMMARY:Crazy hat Day Wear a crazy hat!
DESCRIPTION:
URL:https://epworthpreschoolfl.com/event/crazy-hat-day-wear-a-crazy-hat/
END:VEVENT
BEGIN:VEVENT
DTSTART;VALUE=DATE:20240618
DTEND;VALUE=DATE:20240619
DTSTAMP:20260422T111111
CREATED:20240416T155849Z
LAST-MODIFIED:20240416T155849Z
UID:10000725-1718668800-1718755199@epworthpreschoolfl.com
SUMMARY:Crazy sock Day\, Wear crazy socks!
DESCRIPTION:
URL:https://epworthpreschoolfl.com/event/crazy-sock-day-wear-crazy-socks/
END:VEVENT
BEGIN:VEVENT
DTSTART;VALUE=DATE:20240619
DTEND;VALUE=DATE:20240620
DTSTAMP:20260422T111111
CREATED:20240416T155913Z
LAST-MODIFIED:20240417T133459Z
UID:10000726-1718755200-1718841599@epworthpreschoolfl.com
SUMMARY:Sports obstacle Course\, Wear favorite team shirt
DESCRIPTION:
URL:https://epworthpreschoolfl.com/event/sports-obstacle-course-wear-favorite-team-shirt/
END:VEVENT
BEGIN:VEVENT
DTSTART;VALUE=DATE:20240620
DTEND;VALUE=DATE:20240621
DTSTAMP:20260422T111111
CREATED:20240416T155929Z
LAST-MODIFIED:20240416T155929Z
UID:10000727-1718841600-1718927999@epworthpreschoolfl.com
SUMMARY:Crazy Hair Day
DESCRIPTION:
URL:https://epworthpreschoolfl.com/event/crazy-hair-day/
END:VEVENT
BEGIN:VEVENT
DTSTART;VALUE=DATE:20240621
DTEND;VALUE=DATE:20240622
DTSTAMP:20260422T111111
CREATED:20240416T155950Z
LAST-MODIFIED:20240416T161624Z
UID:10000728-1718928000-1719014399@epworthpreschoolfl.com
SUMMARY:Water Day
DESCRIPTION:
URL:https://epworthpreschoolfl.com/event/water-day/2024-06-21/
END:VEVENT
BEGIN:VEVENT
DTSTART;VALUE=DATE:20240623
DTEND;VALUE=DATE:20240624
DTSTAMP:20260422T111111
CREATED:20240416T160058Z
LAST-MODIFIED:20240416T160058Z
UID:10000731-1719100800-1719187199@epworthpreschoolfl.com
SUMMARY:Week 3 Down on the Farm
DESCRIPTION:
URL:https://epworthpreschoolfl.com/event/week-3-down-on-the-farm/
END:VEVENT
BEGIN:VEVENT
DTSTART;VALUE=DATE:20240624
DTEND;VALUE=DATE:20240625
DTSTAMP:20260422T111111
CREATED:20240416T160112Z
LAST-MODIFIED:20240416T160112Z
UID:10000732-1719187200-1719273599@epworthpreschoolfl.com
SUMMARY:Pony rides
DESCRIPTION:
URL:https://epworthpreschoolfl.com/event/pony-rides/
END:VEVENT
BEGIN:VEVENT
DTSTART;VALUE=DATE:20240626
DTEND;VALUE=DATE:20240627
DTSTAMP:20260422T111111
CREATED:20240416T160125Z
LAST-MODIFIED:20240416T160125Z
UID:10000733-1719360000-1719446399@epworthpreschoolfl.com
SUMMARY:Petting Zoo
DESCRIPTION:
URL:https://epworthpreschoolfl.com/event/petting-zoo/
END:VEVENT
BEGIN:VEVENT
DTSTART;VALUE=DATE:20240628
DTEND;VALUE=DATE:20240629
DTSTAMP:20260422T111111
CREATED:20240416T155950Z
LAST-MODIFIED:20240416T161624Z
UID:10000818-1719532800-1719619199@epworthpreschoolfl.com
SUMMARY:Water Day
DESCRIPTION:
URL:https://epworthpreschoolfl.com/event/water-day/2024-06-28/
END:VEVENT
BEGIN:VEVENT
DTSTART;VALUE=DATE:20240628
DTEND;VALUE=DATE:20240629
DTSTAMP:20260422T111111
CREATED:20240416T160015Z
LAST-MODIFIED:20240416T160015Z
UID:10000730-1719532800-1719619199@epworthpreschoolfl.com
SUMMARY:Pizza Party
DESCRIPTION:
URL:https://epworthpreschoolfl.com/event/pizza-party/
END:VEVENT
END:VCALENDAR