BEGIN:VCALENDAR
VERSION:2.0
PRODID:-//Epworth Pre-School - ECPv6.15.20//NONSGML v1.0//EN
CALSCALE:GREGORIAN
METHOD:PUBLISH
X-ORIGINAL-URL:https://epworthpreschoolfl.com
X-WR-CALDESC:Events for Epworth Pre-School
REFRESH-INTERVAL;VALUE=DURATION:PT1H
X-Robots-Tag:noindex
X-PUBLISHED-TTL:PT1H
BEGIN:VTIMEZONE
TZID:UTC
BEGIN:STANDARD
TZOFFSETFROM:+0000
TZOFFSETTO:+0000
TZNAME:UTC
DTSTART:20230101T000000
END:STANDARD
END:VTIMEZONE
BEGIN:VEVENT
DTSTART;VALUE=DATE:20240301
DTEND;VALUE=DATE:20240302
DTSTAMP:20260422T174826
CREATED:20240227T175510Z
LAST-MODIFIED:20240227T175510Z
UID:10000230-1709251200-1709337599@epworthpreschoolfl.com
SUMMARY:Monthly payments due
DESCRIPTION:
URL:https://epworthpreschoolfl.com/event/monthly-payments-due-5/
END:VEVENT
BEGIN:VEVENT
DTSTART;VALUE=DATE:20240301
DTEND;VALUE=DATE:20240302
DTSTAMP:20260422T174826
CREATED:20240227T175533Z
LAST-MODIFIED:20240227T175533Z
UID:10000231-1709251200-1709337599@epworthpreschoolfl.com
SUMMARY:Dr. Seuss birthday
DESCRIPTION:
URL:https://epworthpreschoolfl.com/event/dr-seuss-birthday/
END:VEVENT
BEGIN:VEVENT
DTSTART;VALUE=DATE:20240301
DTEND;VALUE=DATE:20240302
DTSTAMP:20260422T174826
CREATED:20240227T175550Z
LAST-MODIFIED:20240227T175550Z
UID:10000232-1709251200-1709337599@epworthpreschoolfl.com
SUMMARY:Green Eggs & Ham
DESCRIPTION:
URL:https://epworthpreschoolfl.com/event/green-eggs-ham/
END:VEVENT
BEGIN:VEVENT
DTSTART;VALUE=DATE:20240301
DTEND;VALUE=DATE:20240302
DTSTAMP:20260422T174826
CREATED:20240227T175559Z
LAST-MODIFIED:20240227T175559Z
UID:10000233-1709251200-1709337599@epworthpreschoolfl.com
SUMMARY:Music
DESCRIPTION:
URL:https://epworthpreschoolfl.com/event/music-41/
END:VEVENT
BEGIN:VEVENT
DTSTART;VALUE=DATE:20240304
DTEND;VALUE=DATE:20240305
DTSTAMP:20260422T174826
CREATED:20240227T174635Z
LAST-MODIFIED:20240227T174635Z
UID:10000209-1709510400-1709596799@epworthpreschoolfl.com
SUMMARY:PE
DESCRIPTION:
URL:https://epworthpreschoolfl.com/event/pe-41/
END:VEVENT
BEGIN:VEVENT
DTSTART;VALUE=DATE:20240304
DTEND;VALUE=DATE:20240305
DTSTAMP:20260422T174826
CREATED:20240227T174833Z
LAST-MODIFIED:20240227T174833Z
UID:10000215-1709510400-1709596799@epworthpreschoolfl.com
SUMMARY:Weekly payments due
DESCRIPTION:
URL:https://epworthpreschoolfl.com/event/weekly-payments-due-10/
END:VEVENT
BEGIN:VEVENT
DTSTART;VALUE=DATE:20240305
DTEND;VALUE=DATE:20240306
DTSTAMP:20260422T174826
CREATED:20240227T174918Z
LAST-MODIFIED:20240227T174918Z
UID:10000218-1709596800-1709683199@epworthpreschoolfl.com
SUMMARY:Music
DESCRIPTION:
URL:https://epworthpreschoolfl.com/event/music-37/
END:VEVENT
BEGIN:VEVENT
DTSTART;VALUE=DATE:20240306
DTEND;VALUE=DATE:20240307
DTSTAMP:20260422T174826
CREATED:20240227T174734Z
LAST-MODIFIED:20240227T174734Z
UID:10000212-1709683200-1709769599@epworthpreschoolfl.com
SUMMARY:PE
DESCRIPTION:
URL:https://epworthpreschoolfl.com/event/pe-44/
END:VEVENT
BEGIN:VEVENT
DTSTART;VALUE=DATE:20240306
DTEND;VALUE=DATE:20240307
DTSTAMP:20260422T174826
CREATED:20240227T175035Z
LAST-MODIFIED:20240227T175035Z
UID:10000222-1709683200-1709769599@epworthpreschoolfl.com
SUMMARY:k2 & k3 Spring Photos
DESCRIPTION:
URL:https://epworthpreschoolfl.com/event/k2-k3-spring-photos/
END:VEVENT
BEGIN:VEVENT
DTSTART;VALUE=DATE:20240307
DTEND;VALUE=DATE:20240308
DTSTAMP:20260422T174826
CREATED:20240227T175105Z
LAST-MODIFIED:20240227T175105Z
UID:10000223-1709769600-1709855999@epworthpreschoolfl.com
SUMMARY:Chapel 10 am
DESCRIPTION:
URL:https://epworthpreschoolfl.com/event/chapel-10-am/
END:VEVENT
BEGIN:VEVENT
DTSTART;VALUE=DATE:20240307
DTEND;VALUE=DATE:20240308
DTSTAMP:20260422T174826
CREATED:20240227T175121Z
LAST-MODIFIED:20240227T175121Z
UID:10000224-1709769600-1709855999@epworthpreschoolfl.com
SUMMARY:VPK Spring Photos
DESCRIPTION:
URL:https://epworthpreschoolfl.com/event/vpk-spring-photos/
END:VEVENT
BEGIN:VEVENT
DTSTART;VALUE=DATE:20240308
DTEND;VALUE=DATE:20240309
DTSTAMP:20260422T174826
CREATED:20240122T171230Z
LAST-MODIFIED:20240227T175258Z
UID:10000191-1709856000-1709942399@epworthpreschoolfl.com
SUMMARY:Music
DESCRIPTION:
URL:https://epworthpreschoolfl.com/event/all-weekly-payments-due-8/
END:VEVENT
BEGIN:VEVENT
DTSTART;VALUE=DATE:20240311
DTEND;VALUE=DATE:20240312
DTSTAMP:20260422T174826
CREATED:20240227T174658Z
LAST-MODIFIED:20240227T174658Z
UID:10000210-1710115200-1710201599@epworthpreschoolfl.com
SUMMARY:PE
DESCRIPTION:
URL:https://epworthpreschoolfl.com/event/pe-42/
END:VEVENT
BEGIN:VEVENT
DTSTART;VALUE=DATE:20240311
DTEND;VALUE=DATE:20240312
DTSTAMP:20260422T174826
CREATED:20240227T174842Z
LAST-MODIFIED:20240227T174842Z
UID:10000216-1710115200-1710201599@epworthpreschoolfl.com
SUMMARY:Weekly payments due
DESCRIPTION:
URL:https://epworthpreschoolfl.com/event/weekly-payments-due-11/
END:VEVENT
BEGIN:VEVENT
DTSTART;VALUE=DATE:20240312
DTEND;VALUE=DATE:20240313
DTSTAMP:20260422T174826
CREATED:20240227T174930Z
LAST-MODIFIED:20240227T174930Z
UID:10000219-1710201600-1710287999@epworthpreschoolfl.com
SUMMARY:Music
DESCRIPTION:
URL:https://epworthpreschoolfl.com/event/music-38/
END:VEVENT
BEGIN:VEVENT
DTSTART;VALUE=DATE:20240313
DTEND;VALUE=DATE:20240314
DTSTAMP:20260422T174826
CREATED:20240227T174745Z
LAST-MODIFIED:20240227T174745Z
UID:10000213-1710288000-1710374399@epworthpreschoolfl.com
SUMMARY:PE
DESCRIPTION:
URL:https://epworthpreschoolfl.com/event/pe-45/
END:VEVENT
BEGIN:VEVENT
DTSTART;VALUE=DATE:20240314
DTEND;VALUE=DATE:20240315
DTSTAMP:20260422T174826
CREATED:20240227T175150Z
LAST-MODIFIED:20240227T175158Z
UID:10000225-1710374400-1710460799@epworthpreschoolfl.com
SUMMARY:Chapel 10 am Please wear Epworth t-shirt
DESCRIPTION:
URL:https://epworthpreschoolfl.com/event/chapel-10-am-please-wear-epworth-t-shirt-15/
END:VEVENT
BEGIN:VEVENT
DTSTART;VALUE=DATE:20240315
DTEND;VALUE=DATE:20240316
DTSTAMP:20260422T174826
CREATED:20240227T175324Z
LAST-MODIFIED:20240227T175324Z
UID:10000227-1710460800-1710547199@epworthpreschoolfl.com
SUMMARY:Music
DESCRIPTION:
URL:https://epworthpreschoolfl.com/event/music-40/
END:VEVENT
BEGIN:VEVENT
DTSTART;VALUE=DATE:20240315
DTEND;VALUE=DATE:20240316
DTSTAMP:20260422T174826
CREATED:20240227T175348Z
LAST-MODIFIED:20240227T175348Z
UID:10000228-1710460800-1710547199@epworthpreschoolfl.com
SUMMARY:Leprechaun visil
DESCRIPTION:
URL:https://epworthpreschoolfl.com/event/leprechaun-visil/
END:VEVENT
BEGIN:VEVENT
DTSTART;VALUE=DATE:20240317
DTEND;VALUE=DATE:20240318
DTSTAMP:20260422T174826
CREATED:20240227T175659Z
LAST-MODIFIED:20240227T175659Z
UID:10000236-1710633600-1710719999@epworthpreschoolfl.com
SUMMARY:Preschool children sing in church 9:30am
DESCRIPTION:
URL:https://epworthpreschoolfl.com/event/preschool-children-sing-in-church-930am/
END:VEVENT
BEGIN:VEVENT
DTSTART;VALUE=DATE:20240318
DTEND;VALUE=DATE:20240319
DTSTAMP:20260422T174826
CREATED:20240227T174712Z
LAST-MODIFIED:20240227T174712Z
UID:10000211-1710720000-1710806399@epworthpreschoolfl.com
SUMMARY:PE
DESCRIPTION:
URL:https://epworthpreschoolfl.com/event/pe-43/
END:VEVENT
BEGIN:VEVENT
DTSTART;VALUE=DATE:20240318
DTEND;VALUE=DATE:20240319
DTSTAMP:20260422T174826
CREATED:20240227T174855Z
LAST-MODIFIED:20240227T174855Z
UID:10000217-1710720000-1710806399@epworthpreschoolfl.com
SUMMARY:Weekly payments due
DESCRIPTION:
URL:https://epworthpreschoolfl.com/event/weekly-payments-due-12/
END:VEVENT
BEGIN:VEVENT
DTSTART;VALUE=DATE:20240319
DTEND;VALUE=DATE:20240320
DTSTAMP:20260422T174826
CREATED:20240227T174945Z
LAST-MODIFIED:20240227T174945Z
UID:10000220-1710806400-1710892799@epworthpreschoolfl.com
SUMMARY:Music
DESCRIPTION:
URL:https://epworthpreschoolfl.com/event/music-39/
END:VEVENT
BEGIN:VEVENT
DTSTART;VALUE=DATE:20240319
DTEND;VALUE=DATE:20240320
DTSTAMP:20260422T174826
CREATED:20240227T175012Z
LAST-MODIFIED:20240227T175012Z
UID:10000221-1710806400-1710892799@epworthpreschoolfl.com
SUMMARY:All pre stuffed store bough easter eggs due
DESCRIPTION:
URL:https://epworthpreschoolfl.com/event/all-pre-stuffed-store-bough-easter-eggs-due/
END:VEVENT
BEGIN:VEVENT
DTSTART;VALUE=DATE:20240320
DTEND;VALUE=DATE:20240321
DTSTAMP:20260422T174826
CREATED:20240227T174759Z
LAST-MODIFIED:20240227T174759Z
UID:10000214-1710892800-1710979199@epworthpreschoolfl.com
SUMMARY:PE
DESCRIPTION:
URL:https://epworthpreschoolfl.com/event/pe-46/
END:VEVENT
BEGIN:VEVENT
DTSTART;VALUE=DATE:20240321
DTEND;VALUE=DATE:20240322
DTSTAMP:20260422T174826
CREATED:20240227T175212Z
LAST-MODIFIED:20240227T175212Z
UID:10000226-1710979200-1711065599@epworthpreschoolfl.com
SUMMARY:Chapel 10 am Please wear Epworth t-shirt
DESCRIPTION:
URL:https://epworthpreschoolfl.com/event/chapel-10-am-please-wear-epworth-t-shirt-16/
END:VEVENT
BEGIN:VEVENT
DTSTART;VALUE=DATE:20240322
DTEND;VALUE=DATE:20240323
DTSTAMP:20260422T174826
CREATED:20230809T093338Z
LAST-MODIFIED:20230809T093338Z
UID:10000016-1711065600-1711151999@epworthpreschoolfl.com
SUMMARY:Egg Hunt
DESCRIPTION:
URL:https://epworthpreschoolfl.com/event/egg-hunt/
END:VEVENT
BEGIN:VEVENT
DTSTART;VALUE=DATE:20240322
DTEND;VALUE=DATE:20240323
DTSTAMP:20260422T174826
CREATED:20240227T175416Z
LAST-MODIFIED:20240227T175416Z
UID:10000229-1711065600-1711151999@epworthpreschoolfl.com
SUMMARY:Broward schools closed Easter Egg Hunt
DESCRIPTION:
URL:https://epworthpreschoolfl.com/event/broward-schools-closed-easter-egg-hunt/
END:VEVENT
BEGIN:VEVENT
DTSTART;VALUE=DATE:20240325
DTEND;VALUE=DATE:20240330
DTSTAMP:20260422T174826
CREATED:20230809T093402Z
LAST-MODIFIED:20230809T093402Z
UID:10000017-1711324800-1711756799@epworthpreschoolfl.com
SUMMARY:Spring Break (school closed)
DESCRIPTION:
URL:https://epworthpreschoolfl.com/event/spring-break-school-closed/
END:VEVENT
BEGIN:VEVENT
DTSTART;VALUE=DATE:20240329
DTEND;VALUE=DATE:20240330
DTSTAMP:20260422T174826
CREATED:20240227T175620Z
LAST-MODIFIED:20240227T175620Z
UID:10000234-1711670400-1711756799@epworthpreschoolfl.com
SUMMARY:Ms. Emily bday
DESCRIPTION:
URL:https://epworthpreschoolfl.com/event/ms-emily-bday/
END:VEVENT
END:VCALENDAR