BEGIN:VCALENDAR
VERSION:2.0
PRODID:-//Epworth Pre-School - ECPv6.15.20//NONSGML v1.0//EN
CALSCALE:GREGORIAN
METHOD:PUBLISH
X-ORIGINAL-URL:https://epworthpreschoolfl.com
X-WR-CALDESC:Events for Epworth Pre-School
REFRESH-INTERVAL;VALUE=DURATION:PT1H
X-Robots-Tag:noindex
X-PUBLISHED-TTL:PT1H
BEGIN:VTIMEZONE
TZID:UTC
BEGIN:STANDARD
TZOFFSETFROM:+0000
TZOFFSETTO:+0000
TZNAME:UTC
DTSTART:20230101T000000
END:STANDARD
END:VTIMEZONE
BEGIN:VEVENT
DTSTART;VALUE=DATE:20240201
DTEND;VALUE=DATE:20240202
DTSTAMP:20260422T204150
CREATED:20240122T170901Z
LAST-MODIFIED:20240122T170901Z
UID:10000178-1706745600-1706831999@epworthpreschoolfl.com
SUMMARY:Monthly payments are due
DESCRIPTION:
URL:https://epworthpreschoolfl.com/event/monthly-payments-are-due/
END:VEVENT
BEGIN:VEVENT
DTSTART;VALUE=DATE:20240201
DTEND;VALUE=DATE:20240202
DTSTAMP:20260422T204150
CREATED:20240122T170932Z
LAST-MODIFIED:20240122T170932Z
UID:10000179-1706745600-1706831999@epworthpreschoolfl.com
SUMMARY:Chapel 10 am. Please wear Epworth t-shirt
DESCRIPTION:
URL:https://epworthpreschoolfl.com/event/chapel-10-am-please-wear-epworth-t-shirt-14/
END:VEVENT
BEGIN:VEVENT
DTSTART;VALUE=DATE:20240202
DTEND;VALUE=DATE:20240203
DTSTAMP:20260422T204150
CREATED:20240122T171548Z
LAST-MODIFIED:20240122T171548Z
UID:10000197-1706832000-1706918399@epworthpreschoolfl.com
SUMMARY:Music
DESCRIPTION:
URL:https://epworthpreschoolfl.com/event/music-36/
END:VEVENT
BEGIN:VEVENT
DTSTART;VALUE=DATE:20240203
DTEND;VALUE=DATE:20240204
DTSTAMP:20260422T204150
CREATED:20240122T172219Z
LAST-MODIFIED:20240122T172219Z
UID:10000208-1706918400-1707004799@epworthpreschoolfl.com
SUMMARY:Ms. Martha's bday
DESCRIPTION:
URL:https://epworthpreschoolfl.com/event/ms-marthas-bday/
END:VEVENT
BEGIN:VEVENT
DTSTART;VALUE=DATE:20240205
DTEND;VALUE=DATE:20240206
DTSTAMP:20260422T204150
CREATED:20240122T171140Z
LAST-MODIFIED:20240122T171140Z
UID:10000187-1707091200-1707177599@epworthpreschoolfl.com
SUMMARY:All weekly payments due
DESCRIPTION:
URL:https://epworthpreschoolfl.com/event/all-weekly-payments-due-4/
END:VEVENT
BEGIN:VEVENT
DTSTART;VALUE=DATE:20240205
DTEND;VALUE=DATE:20240206
DTSTAMP:20260422T204150
CREATED:20240122T171613Z
LAST-MODIFIED:20240122T171613Z
UID:10000198-1707091200-1707177599@epworthpreschoolfl.com
SUMMARY:PE
DESCRIPTION:
URL:https://epworthpreschoolfl.com/event/pe-35/
END:VEVENT
BEGIN:VEVENT
DTSTART;VALUE=DATE:20240206
DTEND;VALUE=DATE:20240207
DTSTAMP:20260422T204150
CREATED:20240122T170956Z
LAST-MODIFIED:20240122T170956Z
UID:10000180-1707177600-1707263999@epworthpreschoolfl.com
SUMMARY:Music
DESCRIPTION:
URL:https://epworthpreschoolfl.com/event/music-29/
END:VEVENT
BEGIN:VEVENT
DTSTART;VALUE=DATE:20240207
DTEND;VALUE=DATE:20240208
DTSTAMP:20260422T204150
CREATED:20240122T171657Z
LAST-MODIFIED:20240122T171657Z
UID:10000202-1707264000-1707350399@epworthpreschoolfl.com
SUMMARY:PE
DESCRIPTION:
URL:https://epworthpreschoolfl.com/event/pe-39/
END:VEVENT
BEGIN:VEVENT
DTSTART;VALUE=DATE:20240207
DTEND;VALUE=DATE:20240208
DTSTAMP:20260422T204150
CREATED:20240122T171935Z
LAST-MODIFIED:20240122T171935Z
UID:10000206-1707264000-1707350399@epworthpreschoolfl.com
SUMMARY:100th day of school
DESCRIPTION:
URL:https://epworthpreschoolfl.com/event/100th-day-of-school/
END:VEVENT
BEGIN:VEVENT
DTSTART;VALUE=DATE:20240208
DTEND;VALUE=DATE:20240209
DTSTAMP:20260422T204150
CREATED:20240122T171515Z
LAST-MODIFIED:20240122T171515Z
UID:10000196-1707350400-1707436799@epworthpreschoolfl.com
SUMMARY:Chapel 10 am. Pleaser wear Epworth t-shirt
DESCRIPTION:
URL:https://epworthpreschoolfl.com/event/chapel-10-am-pleaser-wear-epworth-t-shirt-4/
END:VEVENT
BEGIN:VEVENT
DTSTART;VALUE=DATE:20240209
DTEND;VALUE=DATE:20240210
DTSTAMP:20260422T204150
CREATED:20240122T171100Z
LAST-MODIFIED:20240122T171100Z
UID:10000185-1707436800-1707523199@epworthpreschoolfl.com
SUMMARY:Music
DESCRIPTION:
URL:https://epworthpreschoolfl.com/event/music-34/
END:VEVENT
BEGIN:VEVENT
DTSTART;VALUE=DATE:20240212
DTEND;VALUE=DATE:20240213
DTSTAMP:20260422T204150
CREATED:20240122T171152Z
LAST-MODIFIED:20240122T171152Z
UID:10000188-1707696000-1707782399@epworthpreschoolfl.com
SUMMARY:All weekly payments due
DESCRIPTION:
URL:https://epworthpreschoolfl.com/event/all-weekly-payments-due-5/
END:VEVENT
BEGIN:VEVENT
DTSTART;VALUE=DATE:20240212
DTEND;VALUE=DATE:20240213
DTSTAMP:20260422T204150
CREATED:20240122T171624Z
LAST-MODIFIED:20240122T171624Z
UID:10000199-1707696000-1707782399@epworthpreschoolfl.com
SUMMARY:PE
DESCRIPTION:
URL:https://epworthpreschoolfl.com/event/pe-36/
END:VEVENT
BEGIN:VEVENT
DTSTART;VALUE=DATE:20240213
DTEND;VALUE=DATE:20240214
DTSTAMP:20260422T204150
CREATED:20240122T171008Z
LAST-MODIFIED:20240122T171008Z
UID:10000181-1707782400-1707868799@epworthpreschoolfl.com
SUMMARY:Music
DESCRIPTION:
URL:https://epworthpreschoolfl.com/event/music-30/
END:VEVENT
BEGIN:VEVENT
DTSTART;VALUE=DATE:20240214
DTEND;VALUE=DATE:20240215
DTSTAMP:20260422T204150
CREATED:20230809T093227Z
LAST-MODIFIED:20230809T093227Z
UID:10000013-1707868800-1707955199@epworthpreschoolfl.com
SUMMARY:St. Jude Trike A Thon
DESCRIPTION:
URL:https://epworthpreschoolfl.com/event/st-jude-trike-a-thon/
END:VEVENT
BEGIN:VEVENT
DTSTART;VALUE=DATE:20240214
DTEND;VALUE=DATE:20240215
DTSTAMP:20260422T204150
CREATED:20240122T171739Z
LAST-MODIFIED:20240122T171739Z
UID:10000204-1707868800-1707955199@epworthpreschoolfl.com
SUMMARY:Joe DiMaggio Children's Hospital Trike-A-Thon
DESCRIPTION:
URL:https://epworthpreschoolfl.com/event/joe-dimaggio-childrens-hospital-trike-a-thon/
END:VEVENT
BEGIN:VEVENT
DTSTART;VALUE=DATE:20240215
DTEND;VALUE=DATE:20240216
DTSTAMP:20260422T204150
CREATED:20240122T171332Z
LAST-MODIFIED:20240122T171332Z
UID:10000192-1707955200-1708041599@epworthpreschoolfl.com
SUMMARY:Chapel 10 am. Pleaser wear Epworth t-shirt
DESCRIPTION:
URL:https://epworthpreschoolfl.com/event/chapel-10-am-pleaser-wear-epworth-t-shirt/
END:VEVENT
BEGIN:VEVENT
DTSTART;VALUE=DATE:20240216
DTEND;VALUE=DATE:20240217
DTSTAMP:20260422T204150
CREATED:20240122T171112Z
LAST-MODIFIED:20240122T171112Z
UID:10000186-1708041600-1708127999@epworthpreschoolfl.com
SUMMARY:Music
DESCRIPTION:
URL:https://epworthpreschoolfl.com/event/music-35/
END:VEVENT
BEGIN:VEVENT
DTSTART;VALUE=DATE:20240219
DTEND;VALUE=DATE:20240220
DTSTAMP:20260422T204150
CREATED:20230809T093251Z
LAST-MODIFIED:20230809T093251Z
UID:10000014-1708300800-1708387199@epworthpreschoolfl.com
SUMMARY:President’s Day (school closed)
DESCRIPTION:
URL:https://epworthpreschoolfl.com/event/presidents-day-school-closed/
END:VEVENT
BEGIN:VEVENT
DTSTART;VALUE=DATE:20240219
DTEND;VALUE=DATE:20240220
DTSTAMP:20260422T204150
CREATED:20240122T171204Z
LAST-MODIFIED:20240122T171204Z
UID:10000189-1708300800-1708387199@epworthpreschoolfl.com
SUMMARY:All weekly payments due
DESCRIPTION:
URL:https://epworthpreschoolfl.com/event/all-weekly-payments-due-6/
END:VEVENT
BEGIN:VEVENT
DTSTART;VALUE=DATE:20240219
DTEND;VALUE=DATE:20240220
DTSTAMP:20260422T204150
CREATED:20240122T171634Z
LAST-MODIFIED:20240122T171634Z
UID:10000200-1708300800-1708387199@epworthpreschoolfl.com
SUMMARY:PE
DESCRIPTION:
URL:https://epworthpreschoolfl.com/event/pe-37/
END:VEVENT
BEGIN:VEVENT
DTSTART;VALUE=DATE:20240220
DTEND;VALUE=DATE:20240221
DTSTAMP:20260422T204150
CREATED:20240122T171020Z
LAST-MODIFIED:20240122T171020Z
UID:10000182-1708387200-1708473599@epworthpreschoolfl.com
SUMMARY:Music
DESCRIPTION:
URL:https://epworthpreschoolfl.com/event/music-31/
END:VEVENT
BEGIN:VEVENT
DTSTART;VALUE=DATE:20240220
DTEND;VALUE=DATE:20240221
DTSTAMP:20260422T204150
CREATED:20240122T172112Z
LAST-MODIFIED:20240122T172112Z
UID:10000207-1708387200-1708473599@epworthpreschoolfl.com
SUMMARY:All weekly payments due
DESCRIPTION:
URL:https://epworthpreschoolfl.com/event/all-weekly-payments-due-9/
END:VEVENT
BEGIN:VEVENT
DTSTART;VALUE=DATE:20240221
DTEND;VALUE=DATE:20240222
DTSTAMP:20260422T204150
CREATED:20240122T171047Z
LAST-MODIFIED:20240122T171047Z
UID:10000184-1708473600-1708559999@epworthpreschoolfl.com
SUMMARY:Music
DESCRIPTION:
URL:https://epworthpreschoolfl.com/event/music-33/
END:VEVENT
BEGIN:VEVENT
DTSTART;VALUE=DATE:20240222
DTEND;VALUE=DATE:20240223
DTSTAMP:20260422T204150
CREATED:20240122T171343Z
LAST-MODIFIED:20240122T171343Z
UID:10000193-1708560000-1708646399@epworthpreschoolfl.com
SUMMARY:Chapel 10 am. Pleaser wear Epworth t-shirt
DESCRIPTION:
URL:https://epworthpreschoolfl.com/event/chapel-10-am-pleaser-wear-epworth-t-shirt-2/
END:VEVENT
BEGIN:VEVENT
DTSTART;VALUE=DATE:20240223
DTEND;VALUE=DATE:20240224
DTSTAMP:20260422T204150
CREATED:20240122T171427Z
LAST-MODIFIED:20240122T171427Z
UID:10000195-1708646400-1708732799@epworthpreschoolfl.com
SUMMARY:Westerm Day
DESCRIPTION:
URL:https://epworthpreschoolfl.com/event/westerm-day/
END:VEVENT
BEGIN:VEVENT
DTSTART;VALUE=DATE:20240226
DTEND;VALUE=DATE:20240227
DTSTAMP:20260422T204150
CREATED:20240122T171219Z
LAST-MODIFIED:20240122T171219Z
UID:10000190-1708905600-1708991999@epworthpreschoolfl.com
SUMMARY:All weekly payments due
DESCRIPTION:
URL:https://epworthpreschoolfl.com/event/all-weekly-payments-due-7/
END:VEVENT
BEGIN:VEVENT
DTSTART;VALUE=DATE:20240226
DTEND;VALUE=DATE:20240227
DTSTAMP:20260422T204150
CREATED:20240122T171644Z
LAST-MODIFIED:20240122T171644Z
UID:10000201-1708905600-1708991999@epworthpreschoolfl.com
SUMMARY:PE
DESCRIPTION:
URL:https://epworthpreschoolfl.com/event/pe-38/
END:VEVENT
BEGIN:VEVENT
DTSTART;VALUE=DATE:20240227
DTEND;VALUE=DATE:20240228
DTSTAMP:20260422T204150
CREATED:20240122T171036Z
LAST-MODIFIED:20240122T171036Z
UID:10000183-1708992000-1709078399@epworthpreschoolfl.com
SUMMARY:Music
DESCRIPTION:
URL:https://epworthpreschoolfl.com/event/music-32/
END:VEVENT
BEGIN:VEVENT
DTSTART;VALUE=DATE:20240228
DTEND;VALUE=DATE:20240229
DTSTAMP:20260422T204150
CREATED:20240122T171709Z
LAST-MODIFIED:20240122T171709Z
UID:10000203-1709078400-1709164799@epworthpreschoolfl.com
SUMMARY:PE
DESCRIPTION:
URL:https://epworthpreschoolfl.com/event/pe-40/
END:VEVENT
END:VCALENDAR