BEGIN:VCALENDAR
VERSION:2.0
PRODID:-//Epworth Pre-School - ECPv6.15.20//NONSGML v1.0//EN
CALSCALE:GREGORIAN
METHOD:PUBLISH
X-WR-CALNAME:Epworth Pre-School
X-ORIGINAL-URL:https://epworthpreschoolfl.com
X-WR-CALDESC:Events for Epworth Pre-School
REFRESH-INTERVAL;VALUE=DURATION:PT1H
X-Robots-Tag:noindex
X-PUBLISHED-TTL:PT1H
BEGIN:VTIMEZONE
TZID:UTC
BEGIN:STANDARD
TZOFFSETFROM:+0000
TZOFFSETTO:+0000
TZNAME:UTC
DTSTART:20220101T000000
END:STANDARD
END:VTIMEZONE
BEGIN:VEVENT
DTSTART;VALUE=DATE:20231225
DTEND;VALUE=DATE:20240108
DTSTAMP:20260423T010856
CREATED:20230809T093116Z
LAST-MODIFIED:20230809T093116Z
UID:10000010-1703462400-1704671999@epworthpreschoolfl.com
SUMMARY:Christmas Break (school closed)
DESCRIPTION:
URL:https://epworthpreschoolfl.com/event/christmas-break-school-closed/
END:VEVENT
BEGIN:VEVENT
DTSTART;VALUE=DATE:20240108
DTEND;VALUE=DATE:20240109
DTSTAMP:20260423T010856
CREATED:20231030T152541Z
LAST-MODIFIED:20231030T152541Z
UID:10000153-1704672000-1704758399@epworthpreschoolfl.com
SUMMARY:All weekly payments due
DESCRIPTION:
URL:https://epworthpreschoolfl.com/event/all-weekly-payments-due/
END:VEVENT
BEGIN:VEVENT
DTSTART;VALUE=DATE:20240108
DTEND;VALUE=DATE:20240109
DTSTAMP:20260423T010856
CREATED:20231030T152612Z
LAST-MODIFIED:20231030T152612Z
UID:10000154-1704672000-1704758399@epworthpreschoolfl.com
SUMMARY:Monthly payments due
DESCRIPTION:
URL:https://epworthpreschoolfl.com/event/monthly-payments-due-4/
END:VEVENT
BEGIN:VEVENT
DTSTART;VALUE=DATE:20240108
DTEND;VALUE=DATE:20240109
DTSTAMP:20260423T010856
CREATED:20231030T152623Z
LAST-MODIFIED:20231030T152623Z
UID:10000155-1704672000-1704758399@epworthpreschoolfl.com
SUMMARY:PE
DESCRIPTION:
URL:https://epworthpreschoolfl.com/event/pe-28/
END:VEVENT
BEGIN:VEVENT
DTSTART;VALUE=DATE:20240108
DTEND;VALUE=DATE:20240109
DTSTAMP:20260423T010856
CREATED:20231030T152637Z
LAST-MODIFIED:20231030T152637Z
UID:10000156-1704672000-1704758399@epworthpreschoolfl.com
SUMMARY:Classes resume
DESCRIPTION:
URL:https://epworthpreschoolfl.com/event/classes-resume-2/
END:VEVENT
BEGIN:VEVENT
DTSTART;VALUE=DATE:20240109
DTEND;VALUE=DATE:20240110
DTSTAMP:20260423T010856
CREATED:20231030T152647Z
LAST-MODIFIED:20231030T152647Z
UID:10000157-1704758400-1704844799@epworthpreschoolfl.com
SUMMARY:Music
DESCRIPTION:
URL:https://epworthpreschoolfl.com/event/music-22/
END:VEVENT
BEGIN:VEVENT
DTSTART;VALUE=DATE:20240110
DTEND;VALUE=DATE:20240111
DTSTAMP:20260423T010856
CREATED:20231030T152705Z
LAST-MODIFIED:20231030T152705Z
UID:10000158-1704844800-1704931199@epworthpreschoolfl.com
SUMMARY:PE
DESCRIPTION:
URL:https://epworthpreschoolfl.com/event/pe-29/
END:VEVENT
BEGIN:VEVENT
DTSTART;VALUE=DATE:20240111
DTEND;VALUE=DATE:20240112
DTSTAMP:20260423T010856
CREATED:20231030T153054Z
LAST-MODIFIED:20231030T153054Z
UID:10000171-1704931200-1705017599@epworthpreschoolfl.com
SUMMARY:Chapel 10 am Please wear Epworth T-shirt
DESCRIPTION:
URL:https://epworthpreschoolfl.com/event/chapel-10-am-please-wear-epworth-t-shirt-11/
END:VEVENT
BEGIN:VEVENT
DTSTART;VALUE=DATE:20240112
DTEND;VALUE=DATE:20240113
DTSTAMP:20260423T010856
CREATED:20231030T153127Z
LAST-MODIFIED:20231030T153127Z
UID:10000174-1705017600-1705103999@epworthpreschoolfl.com
SUMMARY:Music
DESCRIPTION:
URL:https://epworthpreschoolfl.com/event/music-26/
END:VEVENT
BEGIN:VEVENT
DTSTART;VALUE=DATE:20240115
DTEND;VALUE=DATE:20240116
DTSTAMP:20260423T010856
CREATED:20230809T093204Z
LAST-MODIFIED:20230809T093204Z
UID:10000012-1705276800-1705363199@epworthpreschoolfl.com
SUMMARY:Dr. MLK Day (school closed)
DESCRIPTION:
URL:https://epworthpreschoolfl.com/event/dr-mlk-day-school-closed/
END:VEVENT
BEGIN:VEVENT
DTSTART;VALUE=DATE:20240116
DTEND;VALUE=DATE:20240117
DTSTAMP:20260423T010856
CREATED:20231030T152808Z
LAST-MODIFIED:20231030T152808Z
UID:10000162-1705363200-1705449599@epworthpreschoolfl.com
SUMMARY:Music
DESCRIPTION:
URL:https://epworthpreschoolfl.com/event/music-23/
END:VEVENT
BEGIN:VEVENT
DTSTART;VALUE=DATE:20240116
DTEND;VALUE=DATE:20240117
DTSTAMP:20260423T010856
CREATED:20231030T153018Z
LAST-MODIFIED:20231030T153018Z
UID:10000170-1705363200-1705449599@epworthpreschoolfl.com
SUMMARY:All weekly payments due
DESCRIPTION:
URL:https://epworthpreschoolfl.com/event/all-weekly-payments-due-3/
END:VEVENT
BEGIN:VEVENT
DTSTART;VALUE=DATE:20240117
DTEND;VALUE=DATE:20240118
DTSTAMP:20260423T010856
CREATED:20231030T152717Z
LAST-MODIFIED:20231030T152717Z
UID:10000159-1705449600-1705535999@epworthpreschoolfl.com
SUMMARY:PE
DESCRIPTION:
URL:https://epworthpreschoolfl.com/event/pe-30/
END:VEVENT
BEGIN:VEVENT
DTSTART;VALUE=DATE:20240118
DTEND;VALUE=DATE:20240119
DTSTAMP:20260423T010856
CREATED:20231030T153102Z
LAST-MODIFIED:20231030T153102Z
UID:10000172-1705536000-1705622399@epworthpreschoolfl.com
SUMMARY:Chapel 10 am Please wear Epworth T-shirt
DESCRIPTION:
URL:https://epworthpreschoolfl.com/event/chapel-10-am-please-wear-epworth-t-shirt-12/
END:VEVENT
BEGIN:VEVENT
DTSTART;VALUE=DATE:20240119
DTEND;VALUE=DATE:20240120
DTSTAMP:20260423T010856
CREATED:20231030T153136Z
LAST-MODIFIED:20231030T153136Z
UID:10000175-1705622400-1705708799@epworthpreschoolfl.com
SUMMARY:Music
DESCRIPTION:
URL:https://epworthpreschoolfl.com/event/music-27/
END:VEVENT
BEGIN:VEVENT
DTSTART;VALUE=DATE:20240122
DTEND;VALUE=DATE:20240123
DTSTAMP:20260423T010856
CREATED:20231030T152843Z
LAST-MODIFIED:20231030T152843Z
UID:10000165-1705881600-1705967999@epworthpreschoolfl.com
SUMMARY:PE
DESCRIPTION:
URL:https://epworthpreschoolfl.com/event/pe-33/
END:VEVENT
BEGIN:VEVENT
DTSTART;VALUE=DATE:20240122
DTEND;VALUE=DATE:20240123
DTSTAMP:20260423T010856
CREATED:20231030T152951Z
LAST-MODIFIED:20231030T152951Z
UID:10000168-1705881600-1705967999@epworthpreschoolfl.com
SUMMARY:Broward schools closed Epworth open
DESCRIPTION:
URL:https://epworthpreschoolfl.com/event/broward-schools-closed-epworth-open/
END:VEVENT
BEGIN:VEVENT
DTSTART;VALUE=DATE:20240123
DTEND;VALUE=DATE:20240124
DTSTAMP:20260423T010856
CREATED:20231030T152820Z
LAST-MODIFIED:20231030T152820Z
UID:10000163-1705968000-1706054399@epworthpreschoolfl.com
SUMMARY:Music
DESCRIPTION:
URL:https://epworthpreschoolfl.com/event/music-24/
END:VEVENT
BEGIN:VEVENT
DTSTART;VALUE=DATE:20240124
DTEND;VALUE=DATE:20240125
DTSTAMP:20260423T010856
CREATED:20231030T152730Z
LAST-MODIFIED:20231030T152730Z
UID:10000160-1706054400-1706140799@epworthpreschoolfl.com
SUMMARY:PE
DESCRIPTION:
URL:https://epworthpreschoolfl.com/event/pe-31/
END:VEVENT
BEGIN:VEVENT
DTSTART;VALUE=DATE:20240125
DTEND;VALUE=DATE:20240126
DTSTAMP:20260423T010856
CREATED:20231030T153114Z
LAST-MODIFIED:20231030T153114Z
UID:10000173-1706140800-1706227199@epworthpreschoolfl.com
SUMMARY:Chapel 10 am Please wear Epworth T-shirt
DESCRIPTION:
URL:https://epworthpreschoolfl.com/event/chapel-10-am-please-wear-epworth-t-shirt-13/
END:VEVENT
BEGIN:VEVENT
DTSTART;VALUE=DATE:20240126
DTEND;VALUE=DATE:20240127
DTSTAMP:20260423T010856
CREATED:20231030T153147Z
LAST-MODIFIED:20231030T153147Z
UID:10000176-1706227200-1706313599@epworthpreschoolfl.com
SUMMARY:Music
DESCRIPTION:
URL:https://epworthpreschoolfl.com/event/music-28/
END:VEVENT
BEGIN:VEVENT
DTSTART;VALUE=DATE:20240126
DTEND;VALUE=DATE:20240127
DTSTAMP:20260423T010856
CREATED:20231030T153201Z
LAST-MODIFIED:20231030T153201Z
UID:10000177-1706227200-1706313599@epworthpreschoolfl.com
SUMMARY:Gabie STEM bus visit 9-11
DESCRIPTION:
URL:https://epworthpreschoolfl.com/event/gabie-stem-bus-visit-9-11/
END:VEVENT
BEGIN:VEVENT
DTSTART;VALUE=DATE:20240129
DTEND;VALUE=DATE:20240130
DTSTAMP:20260423T010856
CREATED:20231030T152854Z
LAST-MODIFIED:20231030T152854Z
UID:10000166-1706486400-1706572799@epworthpreschoolfl.com
SUMMARY:PE
DESCRIPTION:
URL:https://epworthpreschoolfl.com/event/pe-34/
END:VEVENT
BEGIN:VEVENT
DTSTART;VALUE=DATE:20240129
DTEND;VALUE=DATE:20240130
DTSTAMP:20260423T010856
CREATED:20231030T153003Z
LAST-MODIFIED:20231030T153003Z
UID:10000169-1706486400-1706572799@epworthpreschoolfl.com
SUMMARY:All weekly payments due
DESCRIPTION:
URL:https://epworthpreschoolfl.com/event/all-weekly-payments-due-2/
END:VEVENT
BEGIN:VEVENT
DTSTART;VALUE=DATE:20240130
DTEND;VALUE=DATE:20240131
DTSTAMP:20260423T010856
CREATED:20231030T152830Z
LAST-MODIFIED:20231030T152830Z
UID:10000164-1706572800-1706659199@epworthpreschoolfl.com
SUMMARY:Music
DESCRIPTION:
URL:https://epworthpreschoolfl.com/event/music-25/
END:VEVENT
BEGIN:VEVENT
DTSTART;VALUE=DATE:20240131
DTEND;VALUE=DATE:20240201
DTSTAMP:20260423T010856
CREATED:20231030T152739Z
LAST-MODIFIED:20231030T152739Z
UID:10000161-1706659200-1706745599@epworthpreschoolfl.com
SUMMARY:PE
DESCRIPTION:
URL:https://epworthpreschoolfl.com/event/pe-32/
END:VEVENT
END:VCALENDAR