BEGIN:VCALENDAR
VERSION:2.0
PRODID:-//Epworth Pre-School - ECPv6.15.20//NONSGML v1.0//EN
CALSCALE:GREGORIAN
METHOD:PUBLISH
X-WR-CALNAME:Epworth Pre-School
X-ORIGINAL-URL:https://epworthpreschoolfl.com
X-WR-CALDESC:Events for Epworth Pre-School
REFRESH-INTERVAL;VALUE=DURATION:PT1H
X-Robots-Tag:noindex
X-PUBLISHED-TTL:PT1H
BEGIN:VTIMEZONE
TZID:UTC
BEGIN:STANDARD
TZOFFSETFROM:+0000
TZOFFSETTO:+0000
TZNAME:UTC
DTSTART:20220101T000000
END:STANDARD
END:VTIMEZONE
BEGIN:VEVENT
DTSTART;VALUE=DATE:20231201
DTEND;VALUE=DATE:20231202
DTSTAMP:20260423T023546
CREATED:20231030T144511Z
LAST-MODIFIED:20231030T144511Z
UID:10000131-1701388800-1701475199@epworthpreschoolfl.com
SUMMARY:Breakfast with Santa 9:30 am
DESCRIPTION:
URL:https://epworthpreschoolfl.com/event/breakfast-with-santa-930-am/
END:VEVENT
BEGIN:VEVENT
DTSTART;VALUE=DATE:20231204
DTEND;VALUE=DATE:20231205
DTSTAMP:20260423T023546
CREATED:20231030T144346Z
LAST-MODIFIED:20231030T144346Z
UID:10000127-1701648000-1701734399@epworthpreschoolfl.com
SUMMARY:Monthly payments due
DESCRIPTION:
URL:https://epworthpreschoolfl.com/event/monthly-payments-due-3/
END:VEVENT
BEGIN:VEVENT
DTSTART;VALUE=DATE:20231204
DTEND;VALUE=DATE:20231205
DTSTAMP:20260423T023546
CREATED:20231030T144402Z
LAST-MODIFIED:20231030T144402Z
UID:10000128-1701648000-1701734399@epworthpreschoolfl.com
SUMMARY:Weekly payments due
DESCRIPTION:
URL:https://epworthpreschoolfl.com/event/weekly-payments-due-7/
END:VEVENT
BEGIN:VEVENT
DTSTART;VALUE=DATE:20231204
DTEND;VALUE=DATE:20231205
DTSTAMP:20260423T023546
CREATED:20231030T144422Z
LAST-MODIFIED:20231030T144422Z
UID:10000129-1701648000-1701734399@epworthpreschoolfl.com
SUMMARY:Practice for Christmas program
DESCRIPTION:
URL:https://epworthpreschoolfl.com/event/practice-for-christmas-program/
END:VEVENT
BEGIN:VEVENT
DTSTART;VALUE=DATE:20231205
DTEND;VALUE=DATE:20231206
DTSTAMP:20260423T023546
CREATED:20231030T144453Z
LAST-MODIFIED:20231030T144453Z
UID:10000130-1701734400-1701820799@epworthpreschoolfl.com
SUMMARY:Practice for Christmas program
DESCRIPTION:
URL:https://epworthpreschoolfl.com/event/practice-for-christmas-program-2/
END:VEVENT
BEGIN:VEVENT
DTSTART;VALUE=DATE:20231206
DTEND;VALUE=DATE:20231207
DTSTAMP:20260423T023546
CREATED:20231030T144601Z
LAST-MODIFIED:20231030T144601Z
UID:10000132-1701820800-1701907199@epworthpreschoolfl.com
SUMMARY:Practice for Christmas program
DESCRIPTION:
URL:https://epworthpreschoolfl.com/event/practice-for-christmas-program-3/
END:VEVENT
BEGIN:VEVENT
DTSTART;VALUE=DATE:20231207
DTEND;VALUE=DATE:20231208
DTSTAMP:20260423T023546
CREATED:20231030T144611Z
LAST-MODIFIED:20231030T144611Z
UID:10000133-1701907200-1701993599@epworthpreschoolfl.com
SUMMARY:Practice for Christmas program
DESCRIPTION:
URL:https://epworthpreschoolfl.com/event/practice-for-christmas-program-4/
END:VEVENT
BEGIN:VEVENT
DTSTART;VALUE=DATE:20231208
DTEND;VALUE=DATE:20231209
DTSTAMP:20260423T023546
CREATED:20231030T144622Z
LAST-MODIFIED:20231030T144622Z
UID:10000134-1701993600-1702079999@epworthpreschoolfl.com
SUMMARY:Practice for Christmas program
DESCRIPTION:
URL:https://epworthpreschoolfl.com/event/practice-for-christmas-program-5/
END:VEVENT
BEGIN:VEVENT
DTSTART;VALUE=DATE:20231208
DTEND;VALUE=DATE:20231209
DTSTAMP:20260423T023546
CREATED:20231030T144643Z
LAST-MODIFIED:20231030T144643Z
UID:10000135-1701993600-1702079999@epworthpreschoolfl.com
SUMMARY:Show school spirit wear red
DESCRIPTION:
URL:https://epworthpreschoolfl.com/event/show-school-spirit-wear-red/
END:VEVENT
BEGIN:VEVENT
DTSTART;VALUE=DATE:20231211
DTEND;VALUE=DATE:20231212
DTSTAMP:20260423T023546
CREATED:20231030T144702Z
LAST-MODIFIED:20231030T144702Z
UID:10000136-1702252800-1702339199@epworthpreschoolfl.com
SUMMARY:Weekly payments due
DESCRIPTION:
URL:https://epworthpreschoolfl.com/event/weekly-payments-due-8/
END:VEVENT
BEGIN:VEVENT
DTSTART;VALUE=DATE:20231211
DTEND;VALUE=DATE:20231212
DTSTAMP:20260423T023546
CREATED:20231030T144712Z
LAST-MODIFIED:20231030T144712Z
UID:10000137-1702252800-1702339199@epworthpreschoolfl.com
SUMMARY:Practice for Christmas program
DESCRIPTION:
URL:https://epworthpreschoolfl.com/event/practice-for-christmas-program-6/
END:VEVENT
BEGIN:VEVENT
DTSTART;VALUE=DATE:20231212
DTEND;VALUE=DATE:20231213
DTSTAMP:20260423T023546
CREATED:20231030T144720Z
LAST-MODIFIED:20231030T144720Z
UID:10000138-1702339200-1702425599@epworthpreschoolfl.com
SUMMARY:Practice for Christmas program
DESCRIPTION:
URL:https://epworthpreschoolfl.com/event/practice-for-christmas-program-7/
END:VEVENT
BEGIN:VEVENT
DTSTART;VALUE=DATE:20231212
DTEND;VALUE=DATE:20231213
DTSTAMP:20260423T023546
CREATED:20231030T144742Z
LAST-MODIFIED:20231030T144742Z
UID:10000139-1702339200-1702425599@epworthpreschoolfl.com
SUMMARY:Ms. Odalys Birthday
DESCRIPTION:
URL:https://epworthpreschoolfl.com/event/ms-odalys-birthday/
END:VEVENT
BEGIN:VEVENT
DTSTART;VALUE=DATE:20231213
DTEND;VALUE=DATE:20231214
DTSTAMP:20260423T023546
CREATED:20231030T144751Z
LAST-MODIFIED:20231030T144751Z
UID:10000140-1702425600-1702511999@epworthpreschoolfl.com
SUMMARY:Practice for Christmas program
DESCRIPTION:
URL:https://epworthpreschoolfl.com/event/practice-for-christmas-program-8/
END:VEVENT
BEGIN:VEVENT
DTSTART;VALUE=DATE:20231214
DTEND;VALUE=DATE:20231215
DTSTAMP:20260423T023546
CREATED:20231030T144801Z
LAST-MODIFIED:20231030T144801Z
UID:10000141-1702512000-1702598399@epworthpreschoolfl.com
SUMMARY:Practice for Christmas program
DESCRIPTION:
URL:https://epworthpreschoolfl.com/event/practice-for-christmas-program-9/
END:VEVENT
BEGIN:VEVENT
DTSTART;VALUE=DATE:20231215
DTEND;VALUE=DATE:20231216
DTSTAMP:20260423T023546
CREATED:20231030T144817Z
LAST-MODIFIED:20231030T144817Z
UID:10000142-1702598400-1702684799@epworthpreschoolfl.com
SUMMARY:Show school spirit wear red
DESCRIPTION:
URL:https://epworthpreschoolfl.com/event/show-school-spirit-wear-red-2/
END:VEVENT
BEGIN:VEVENT
DTSTART;VALUE=DATE:20231215
DTEND;VALUE=DATE:20231216
DTSTAMP:20260423T023546
CREATED:20231030T144832Z
LAST-MODIFIED:20231030T144832Z
UID:10000143-1702598400-1702684799@epworthpreschoolfl.com
SUMMARY:Christmas show 7pm
DESCRIPTION:
URL:https://epworthpreschoolfl.com/event/christmas-show-7pm/
END:VEVENT
BEGIN:VEVENT
DTSTART;VALUE=DATE:20231218
DTEND;VALUE=DATE:20231219
DTSTAMP:20260423T023546
CREATED:20231030T144852Z
LAST-MODIFIED:20231030T144852Z
UID:10000144-1702857600-1702943999@epworthpreschoolfl.com
SUMMARY:Weekly payments due
DESCRIPTION:
URL:https://epworthpreschoolfl.com/event/weekly-payments-due-9/
END:VEVENT
BEGIN:VEVENT
DTSTART;VALUE=DATE:20231222
DTEND;VALUE=DATE:20231223
DTSTAMP:20260423T023546
CREATED:20231030T144909Z
LAST-MODIFIED:20231030T144909Z
UID:10000145-1703203200-1703289599@epworthpreschoolfl.com
SUMMARY:Ms. Logan's Birthday
DESCRIPTION:
URL:https://epworthpreschoolfl.com/event/ms-logans-birthday/
END:VEVENT
BEGIN:VEVENT
DTSTART;VALUE=DATE:20231222
DTEND;VALUE=DATE:20231223
DTSTAMP:20260423T023546
CREATED:20231030T144927Z
LAST-MODIFIED:20231030T144927Z
UID:10000146-1703203200-1703289599@epworthpreschoolfl.com
SUMMARY:Show school spirit wear red
DESCRIPTION:
URL:https://epworthpreschoolfl.com/event/show-school-spirit-wear-red-3/
END:VEVENT
BEGIN:VEVENT
DTSTART;VALUE=DATE:20231224
DTEND;VALUE=DATE:20231225
DTSTAMP:20260423T023546
CREATED:20231030T144951Z
LAST-MODIFIED:20231030T144951Z
UID:10000147-1703376000-1703462399@epworthpreschoolfl.com
SUMMARY:Christmas Eve
DESCRIPTION:
URL:https://epworthpreschoolfl.com/event/christmas-eve/
END:VEVENT
BEGIN:VEVENT
DTSTART;VALUE=DATE:20231225
DTEND;VALUE=DATE:20231226
DTSTAMP:20260423T023546
CREATED:20231030T145025Z
LAST-MODIFIED:20231030T145025Z
UID:10000148-1703462400-1703548799@epworthpreschoolfl.com
SUMMARY:Closed for Christmas Break
DESCRIPTION:
URL:https://epworthpreschoolfl.com/event/closed-for-christmas-break/
END:VEVENT
BEGIN:VEVENT
DTSTART;VALUE=DATE:20231225
DTEND;VALUE=DATE:20240108
DTSTAMP:20260423T023546
CREATED:20230809T093116Z
LAST-MODIFIED:20230809T093116Z
UID:10000010-1703462400-1704671999@epworthpreschoolfl.com
SUMMARY:Christmas Break (school closed)
DESCRIPTION:
URL:https://epworthpreschoolfl.com/event/christmas-break-school-closed/
END:VEVENT
BEGIN:VEVENT
DTSTART;VALUE=DATE:20231226
DTEND;VALUE=DATE:20231227
DTSTAMP:20260423T023546
CREATED:20231030T145034Z
LAST-MODIFIED:20231030T145034Z
UID:10000149-1703548800-1703635199@epworthpreschoolfl.com
SUMMARY:Closed for Christmas Break
DESCRIPTION:
URL:https://epworthpreschoolfl.com/event/closed-for-christmas-break-2/
END:VEVENT
BEGIN:VEVENT
DTSTART;VALUE=DATE:20231227
DTEND;VALUE=DATE:20231228
DTSTAMP:20260423T023546
CREATED:20231030T145042Z
LAST-MODIFIED:20231030T145042Z
UID:10000150-1703635200-1703721599@epworthpreschoolfl.com
SUMMARY:Closed for Christmas Break
DESCRIPTION:
URL:https://epworthpreschoolfl.com/event/closed-for-christmas-break-3/
END:VEVENT
BEGIN:VEVENT
DTSTART;VALUE=DATE:20231228
DTEND;VALUE=DATE:20231229
DTSTAMP:20260423T023546
CREATED:20231030T145051Z
LAST-MODIFIED:20231030T145051Z
UID:10000151-1703721600-1703807999@epworthpreschoolfl.com
SUMMARY:Closed for Christmas Break
DESCRIPTION:
URL:https://epworthpreschoolfl.com/event/closed-for-christmas-break-4/
END:VEVENT
BEGIN:VEVENT
DTSTART;VALUE=DATE:20231229
DTEND;VALUE=DATE:20231230
DTSTAMP:20260423T023546
CREATED:20231030T145100Z
LAST-MODIFIED:20231030T145100Z
UID:10000152-1703808000-1703894399@epworthpreschoolfl.com
SUMMARY:Closed for Christmas Break
DESCRIPTION:
URL:https://epworthpreschoolfl.com/event/closed-for-christmas-break-5/
END:VEVENT
END:VCALENDAR