BEGIN:VCALENDAR
VERSION:2.0
PRODID:-//Epworth Pre-School - ECPv6.15.20//NONSGML v1.0//EN
CALSCALE:GREGORIAN
METHOD:PUBLISH
X-ORIGINAL-URL:https://epworthpreschoolfl.com
X-WR-CALDESC:Events for Epworth Pre-School
REFRESH-INTERVAL;VALUE=DURATION:PT1H
X-Robots-Tag:noindex
X-PUBLISHED-TTL:PT1H
BEGIN:VTIMEZONE
TZID:UTC
BEGIN:STANDARD
TZOFFSETFROM:+0000
TZOFFSETTO:+0000
TZNAME:UTC
DTSTART:20220101T000000
END:STANDARD
END:VTIMEZONE
BEGIN:VEVENT
DTSTART;VALUE=DATE:20231101
DTEND;VALUE=DATE:20231102
DTSTAMP:20260423T105319
CREATED:20231018T152658Z
LAST-MODIFIED:20231019T002658Z
UID:10000090-1698796800-1698883199@epworthpreschoolfl.com
SUMMARY:Monthly payments due
DESCRIPTION:
URL:https://epworthpreschoolfl.com/event/monthly-payments-due-2/
END:VEVENT
BEGIN:VEVENT
DTSTART;VALUE=DATE:20231101
DTEND;VALUE=DATE:20231102
DTSTAMP:20260423T105319
CREATED:20231018T152746Z
LAST-MODIFIED:20231018T152854Z
UID:10000091-1698796800-1698883199@epworthpreschoolfl.com
SUMMARY:k2 & k3 Christmas photos
DESCRIPTION:
URL:https://epworthpreschoolfl.com/event/k2-k3-christmas-photos/
END:VEVENT
BEGIN:VEVENT
DTSTART;VALUE=DATE:20231101
DTEND;VALUE=DATE:20231102
DTSTAMP:20260423T105319
CREATED:20231018T152757Z
LAST-MODIFIED:20231018T152757Z
UID:10000092-1698796800-1698883199@epworthpreschoolfl.com
SUMMARY:PE
DESCRIPTION:
URL:https://epworthpreschoolfl.com/event/pe-19/
END:VEVENT
BEGIN:VEVENT
DTSTART;VALUE=DATE:20231102
DTEND;VALUE=DATE:20231103
DTSTAMP:20260423T105319
CREATED:20231018T152928Z
LAST-MODIFIED:20231018T152928Z
UID:10000093-1698883200-1698969599@epworthpreschoolfl.com
SUMMARY:Chapel 10 am - Please wear Epworth t-shirt
DESCRIPTION:
URL:https://epworthpreschoolfl.com/event/chapel-10-am-please-wear-epworth-t-shirt-7/
END:VEVENT
BEGIN:VEVENT
DTSTART;VALUE=DATE:20231102
DTEND;VALUE=DATE:20231103
DTSTAMP:20260423T105319
CREATED:20231018T152946Z
LAST-MODIFIED:20231018T152946Z
UID:10000094-1698883200-1698969599@epworthpreschoolfl.com
SUMMARY:VPK Christmas photos
DESCRIPTION:
URL:https://epworthpreschoolfl.com/event/vpk-christmas-photos/
END:VEVENT
BEGIN:VEVENT
DTSTART;VALUE=DATE:20231103
DTEND;VALUE=DATE:20231104
DTSTAMP:20260423T105319
CREATED:20231018T153005Z
LAST-MODIFIED:20231018T153005Z
UID:10000095-1698969600-1699055999@epworthpreschoolfl.com
SUMMARY:Music
DESCRIPTION:
URL:https://epworthpreschoolfl.com/event/music-17/
END:VEVENT
BEGIN:VEVENT
DTSTART;VALUE=DATE:20231103
DTEND;VALUE=DATE:20231104
DTSTAMP:20260423T105319
CREATED:20231018T153023Z
LAST-MODIFIED:20231018T153023Z
UID:10000096-1698969600-1699055999@epworthpreschoolfl.com
SUMMARY:Show school spirit wear brown
DESCRIPTION:
URL:https://epworthpreschoolfl.com/event/show-school-spirit-wear-brown/
END:VEVENT
BEGIN:VEVENT
DTSTART;VALUE=DATE:20231106
DTEND;VALUE=DATE:20231107
DTSTAMP:20260423T105319
CREATED:20231018T153040Z
LAST-MODIFIED:20231018T153040Z
UID:10000097-1699228800-1699315199@epworthpreschoolfl.com
SUMMARY:Weekly payments due
DESCRIPTION:
URL:https://epworthpreschoolfl.com/event/weekly-payments-due-3/
END:VEVENT
BEGIN:VEVENT
DTSTART;VALUE=DATE:20231106
DTEND;VALUE=DATE:20231107
DTSTAMP:20260423T105319
CREATED:20231018T153051Z
LAST-MODIFIED:20231018T153051Z
UID:10000098-1699228800-1699315199@epworthpreschoolfl.com
SUMMARY:PE
DESCRIPTION:
URL:https://epworthpreschoolfl.com/event/pe-20/
END:VEVENT
BEGIN:VEVENT
DTSTART;VALUE=DATE:20231107
DTEND;VALUE=DATE:20231108
DTSTAMP:20260423T105319
CREATED:20231018T153106Z
LAST-MODIFIED:20231018T153106Z
UID:10000099-1699315200-1699401599@epworthpreschoolfl.com
SUMMARY:Music
DESCRIPTION:
URL:https://epworthpreschoolfl.com/event/music-18/
END:VEVENT
BEGIN:VEVENT
DTSTART;VALUE=DATE:20231107
DTEND;VALUE=DATE:20231108
DTSTAMP:20260423T105319
CREATED:20231018T153131Z
LAST-MODIFIED:20231018T170959Z
UID:10000100-1699315200-1699401599@epworthpreschoolfl.com
SUMMARY:Broward schools closed Epworth open
DESCRIPTION:
URL:https://epworthpreschoolfl.com/event/broward-schools-closed/
END:VEVENT
BEGIN:VEVENT
DTSTART;VALUE=DATE:20231108
DTEND;VALUE=DATE:20231109
DTSTAMP:20260423T105319
CREATED:20231018T153310Z
LAST-MODIFIED:20231018T153310Z
UID:10000102-1699401600-1699487999@epworthpreschoolfl.com
SUMMARY:PE
DESCRIPTION:
URL:https://epworthpreschoolfl.com/event/pe-21/
END:VEVENT
BEGIN:VEVENT
DTSTART;VALUE=DATE:20231109
DTEND;VALUE=DATE:20231110
DTSTAMP:20260423T105319
CREATED:20231018T153353Z
LAST-MODIFIED:20231018T153353Z
UID:10000103-1699488000-1699574399@epworthpreschoolfl.com
SUMMARY:Chapel 10 am - Please wear Epworth t-shirt
DESCRIPTION:
URL:https://epworthpreschoolfl.com/event/chapel-10-am-please-wear-epworth-t-shirt-8/
END:VEVENT
BEGIN:VEVENT
DTSTART;VALUE=DATE:20231110
DTEND;VALUE=DATE:20231111
DTSTAMP:20260423T105319
CREATED:20230809T092903Z
LAST-MODIFIED:20230809T092903Z
UID:10000005-1699574400-1699660799@epworthpreschoolfl.com
SUMMARY:Veterans Day (school closed)
DESCRIPTION:
URL:https://epworthpreschoolfl.com/event/veterans-day-school-closed/
END:VEVENT
BEGIN:VEVENT
DTSTART;VALUE=DATE:20231110
DTEND;VALUE=DATE:20231111
DTSTAMP:20260423T105319
CREATED:20231018T153425Z
LAST-MODIFIED:20231018T153425Z
UID:10000104-1699574400-1699660799@epworthpreschoolfl.com
SUMMARY:Epworth Preschool will be closed in observance of Veterans day
DESCRIPTION:
URL:https://epworthpreschoolfl.com/event/epworth-preschool-will-be-closed-in-observance-of-veterans-day/
END:VEVENT
BEGIN:VEVENT
DTSTART;VALUE=DATE:20231113
DTEND;VALUE=DATE:20231114
DTSTAMP:20260423T105319
CREATED:20231018T153445Z
LAST-MODIFIED:20231018T153445Z
UID:10000105-1699833600-1699919999@epworthpreschoolfl.com
SUMMARY:Weekly payments due
DESCRIPTION:
URL:https://epworthpreschoolfl.com/event/weekly-payments-due-4/
END:VEVENT
BEGIN:VEVENT
DTSTART;VALUE=DATE:20231113
DTEND;VALUE=DATE:20231114
DTSTAMP:20260423T105319
CREATED:20231018T153457Z
LAST-MODIFIED:20231018T153457Z
UID:10000106-1699833600-1699919999@epworthpreschoolfl.com
SUMMARY:PE
DESCRIPTION:
URL:https://epworthpreschoolfl.com/event/pe-22/
END:VEVENT
BEGIN:VEVENT
DTSTART;VALUE=DATE:20231113
DTEND;VALUE=DATE:20231114
DTSTAMP:20260423T105319
CREATED:20231018T153517Z
LAST-MODIFIED:20231018T153517Z
UID:10000107-1699833600-1699919999@epworthpreschoolfl.com
SUMMARY:Ms. Barbara's bday
DESCRIPTION:
URL:https://epworthpreschoolfl.com/event/ms-barbaras-bday/
END:VEVENT
BEGIN:VEVENT
DTSTART;VALUE=DATE:20231114
DTEND;VALUE=DATE:20231115
DTSTAMP:20260423T105319
CREATED:20231018T153531Z
LAST-MODIFIED:20231018T153531Z
UID:10000108-1699920000-1700006399@epworthpreschoolfl.com
SUMMARY:Music
DESCRIPTION:
URL:https://epworthpreschoolfl.com/event/music-19/
END:VEVENT
BEGIN:VEVENT
DTSTART;VALUE=DATE:20231115
DTEND;VALUE=DATE:20231116
DTSTAMP:20260423T105319
CREATED:20231018T153545Z
LAST-MODIFIED:20231018T153545Z
UID:10000109-1700006400-1700092799@epworthpreschoolfl.com
SUMMARY:PE
DESCRIPTION:
URL:https://epworthpreschoolfl.com/event/pe-23/
END:VEVENT
BEGIN:VEVENT
DTSTART;VALUE=DATE:20231116
DTEND;VALUE=DATE:20231117
DTSTAMP:20260423T105319
CREATED:20231018T153610Z
LAST-MODIFIED:20231018T153610Z
UID:10000110-1700092800-1700179199@epworthpreschoolfl.com
SUMMARY:Chapel 10 am - Please wear Epworth t-shirt
DESCRIPTION:
URL:https://epworthpreschoolfl.com/event/chapel-10-am-please-wear-epworth-t-shirt-9/
END:VEVENT
BEGIN:VEVENT
DTSTART;VALUE=DATE:20231117
DTEND;VALUE=DATE:20231118
DTSTAMP:20260423T105319
CREATED:20231018T153629Z
LAST-MODIFIED:20231018T153629Z
UID:10000111-1700179200-1700265599@epworthpreschoolfl.com
SUMMARY:Turkey Trot 9:00 am
DESCRIPTION:
URL:https://epworthpreschoolfl.com/event/turkey-trot-900-am/
END:VEVENT
BEGIN:VEVENT
DTSTART;VALUE=DATE:20231120
DTEND;VALUE=DATE:20231121
DTSTAMP:20260423T105319
CREATED:20231018T153648Z
LAST-MODIFIED:20231018T153648Z
UID:10000112-1700438400-1700524799@epworthpreschoolfl.com
SUMMARY:Weekly payments due
DESCRIPTION:
URL:https://epworthpreschoolfl.com/event/weekly-payments-due-5/
END:VEVENT
BEGIN:VEVENT
DTSTART;VALUE=DATE:20231120
DTEND;VALUE=DATE:20231121
DTSTAMP:20260423T105319
CREATED:20231018T153659Z
LAST-MODIFIED:20231018T153659Z
UID:10000113-1700438400-1700524799@epworthpreschoolfl.com
SUMMARY:PE
DESCRIPTION:
URL:https://epworthpreschoolfl.com/event/pe-24/
END:VEVENT
BEGIN:VEVENT
DTSTART;VALUE=DATE:20231120
DTEND;VALUE=DATE:20231121
DTSTAMP:20260423T105319
CREATED:20231018T153719Z
LAST-MODIFIED:20231018T170944Z
UID:10000114-1700438400-1700524799@epworthpreschoolfl.com
SUMMARY:Broward schools closed Epworth open
DESCRIPTION:
URL:https://epworthpreschoolfl.com/event/broward-schools-closed-2/
END:VEVENT
BEGIN:VEVENT
DTSTART;VALUE=DATE:20231121
DTEND;VALUE=DATE:20231122
DTSTAMP:20260423T105319
CREATED:20231018T153747Z
LAST-MODIFIED:20231018T153747Z
UID:10000116-1700524800-1700611199@epworthpreschoolfl.com
SUMMARY:Music
DESCRIPTION:
URL:https://epworthpreschoolfl.com/event/music-20/
END:VEVENT
BEGIN:VEVENT
DTSTART;VALUE=DATE:20231121
DTEND;VALUE=DATE:20231122
DTSTAMP:20260423T105319
CREATED:20231018T153802Z
LAST-MODIFIED:20231018T170936Z
UID:10000117-1700524800-1700611199@epworthpreschoolfl.com
SUMMARY:Broward school closed Epworth open
DESCRIPTION:
URL:https://epworthpreschoolfl.com/event/broward-school-closed/
END:VEVENT
BEGIN:VEVENT
DTSTART;VALUE=DATE:20231122
DTEND;VALUE=DATE:20231123
DTSTAMP:20260423T105319
CREATED:20231018T160622Z
LAST-MODIFIED:20231018T160622Z
UID:10000119-1700611200-1700697599@epworthpreschoolfl.com
SUMMARY:PE
DESCRIPTION:
URL:https://epworthpreschoolfl.com/event/pe-25/
END:VEVENT
BEGIN:VEVENT
DTSTART;VALUE=DATE:20231122
DTEND;VALUE=DATE:20231123
DTSTAMP:20260423T105319
CREATED:20231018T160638Z
LAST-MODIFIED:20231018T170917Z
UID:10000120-1700611200-1700697599@epworthpreschoolfl.com
SUMMARY:Broward schools closed Epworth Open
DESCRIPTION:
URL:https://epworthpreschoolfl.com/event/broward-schools-closed-3/
END:VEVENT
BEGIN:VEVENT
DTSTART;VALUE=DATE:20231123
DTEND;VALUE=DATE:20231125
DTSTAMP:20260423T105319
CREATED:20230809T093006Z
LAST-MODIFIED:20230809T093006Z
UID:10000007-1700697600-1700870399@epworthpreschoolfl.com
SUMMARY:Thanksgiving (school closed)
DESCRIPTION:
URL:https://epworthpreschoolfl.com/event/thanksgiving-school-closed/
END:VEVENT
END:VCALENDAR