BEGIN:VCALENDAR
VERSION:2.0
PRODID:-//Epworth Pre-School - ECPv6.15.20//NONSGML v1.0//EN
CALSCALE:GREGORIAN
METHOD:PUBLISH
X-ORIGINAL-URL:https://epworthpreschoolfl.com
X-WR-CALDESC:Events for Epworth Pre-School
REFRESH-INTERVAL;VALUE=DURATION:PT1H
X-Robots-Tag:noindex
X-PUBLISHED-TTL:PT1H
BEGIN:VTIMEZONE
TZID:UTC
BEGIN:STANDARD
TZOFFSETFROM:+0000
TZOFFSETTO:+0000
TZNAME:UTC
DTSTART:20220101T000000
END:STANDARD
END:VTIMEZONE
BEGIN:VEVENT
DTSTART;VALUE=DATE:20230901
DTEND;VALUE=DATE:20230902
DTSTAMP:20260423T173155
CREATED:20230817T150140Z
LAST-MODIFIED:20230818T170613Z
UID:10000030-1693526400-1693612799@epworthpreschoolfl.com
SUMMARY:Monthly payments due
DESCRIPTION:
URL:https://epworthpreschoolfl.com/event/monthly-payments-due/
END:VEVENT
BEGIN:VEVENT
DTSTART;VALUE=DATE:20230901
DTEND;VALUE=DATE:20230902
DTSTAMP:20260423T173155
CREATED:20230818T170553Z
LAST-MODIFIED:20230818T170553Z
UID:10000055-1693526400-1693612799@epworthpreschoolfl.com
SUMMARY:Show School spirit wear yellow
DESCRIPTION:
URL:https://epworthpreschoolfl.com/event/show-school-spirit-wear-yellow/
END:VEVENT
BEGIN:VEVENT
DTSTART;VALUE=DATE:20230901
DTEND;VALUE=DATE:20230902
DTSTAMP:20260423T173155
CREATED:20230818T170558Z
LAST-MODIFIED:20230830T222930Z
UID:10000056-1693526400-1693612799@epworthpreschoolfl.com
SUMMARY:Music
DESCRIPTION:
URL:https://epworthpreschoolfl.com/event/pe-4/
END:VEVENT
BEGIN:VEVENT
DTSTART;VALUE=DATE:20230904
DTEND;VALUE=DATE:20230905
DTSTAMP:20260423T173155
CREATED:20230809T092822Z
LAST-MODIFIED:20230809T092822Z
UID:10000003-1693785600-1693871999@epworthpreschoolfl.com
SUMMARY:Labor Day (school closed)
DESCRIPTION:
URL:https://epworthpreschoolfl.com/event/labor-day-school-closed/
END:VEVENT
BEGIN:VEVENT
DTSTART;VALUE=DATE:20230905
DTEND;VALUE=DATE:20230906
DTSTAMP:20260423T173155
CREATED:20230817T150444Z
LAST-MODIFIED:20230818T170728Z
UID:10000031-1693872000-1693958399@epworthpreschoolfl.com
SUMMARY:Weekly payments due
DESCRIPTION:
URL:https://epworthpreschoolfl.com/event/weekly-payments-due/
END:VEVENT
BEGIN:VEVENT
DTSTART;VALUE=DATE:20230905
DTEND;VALUE=DATE:20230906
DTSTAMP:20260423T173155
CREATED:20230818T170702Z
LAST-MODIFIED:20230830T223011Z
UID:10000057-1693872000-1693958399@epworthpreschoolfl.com
SUMMARY:Music
DESCRIPTION:
URL:https://epworthpreschoolfl.com/event/pe-5/
END:VEVENT
BEGIN:VEVENT
DTSTART;VALUE=DATE:20230906
DTEND;VALUE=DATE:20230907
DTSTAMP:20260423T173155
CREATED:20230817T150506Z
LAST-MODIFIED:20230830T223028Z
UID:10000032-1693958400-1694044799@epworthpreschoolfl.com
SUMMARY:PE
DESCRIPTION:
URL:https://epworthpreschoolfl.com/event/music-2/
END:VEVENT
BEGIN:VEVENT
DTSTART;VALUE=DATE:20230907
DTEND;VALUE=DATE:20230908
DTSTAMP:20260423T173155
CREATED:20230817T150607Z
LAST-MODIFIED:20230817T150607Z
UID:10000033-1694044800-1694131199@epworthpreschoolfl.com
SUMMARY:Chapel 10 am Please wear Epworth t-shirt
DESCRIPTION:
URL:https://epworthpreschoolfl.com/event/chapel-10-am-please-wear-epworth-t-shirt-2/
END:VEVENT
BEGIN:VEVENT
DTSTART;VALUE=DATE:20230908
DTEND;VALUE=DATE:20230909
DTSTAMP:20260423T173155
CREATED:20230817T150720Z
LAST-MODIFIED:20230830T223043Z
UID:10000034-1694131200-1694217599@epworthpreschoolfl.com
SUMMARY:Music
DESCRIPTION:
URL:https://epworthpreschoolfl.com/event/pe-6/
END:VEVENT
BEGIN:VEVENT
DTSTART;VALUE=DATE:20230908
DTEND;VALUE=DATE:20230909
DTSTAMP:20260423T173155
CREATED:20230818T171349Z
LAST-MODIFIED:20230818T171349Z
UID:10000058-1694131200-1694217599@epworthpreschoolfl.com
SUMMARY:Ms. Diane bday
DESCRIPTION:
URL:https://epworthpreschoolfl.com/event/ms-diane-bday/
END:VEVENT
BEGIN:VEVENT
DTSTART;VALUE=DATE:20230908
DTEND;VALUE=DATE:20230909
DTSTAMP:20260423T173155
CREATED:20230818T171352Z
LAST-MODIFIED:20230818T171352Z
UID:10000059-1694131200-1694217599@epworthpreschoolfl.com
SUMMARY:Show School spirit wear yellow
DESCRIPTION:
URL:https://epworthpreschoolfl.com/event/show-school-spirit-wear-yellow-2/
END:VEVENT
BEGIN:VEVENT
DTSTART;VALUE=DATE:20230910
DTEND;VALUE=DATE:20230911
DTSTAMP:20260423T173155
CREATED:20230817T150738Z
LAST-MODIFIED:20230817T150738Z
UID:10000035-1694304000-1694390399@epworthpreschoolfl.com
SUMMARY:Ms. Susie bday
DESCRIPTION:
URL:https://epworthpreschoolfl.com/event/ms-susie-bday/
END:VEVENT
BEGIN:VEVENT
DTSTART;VALUE=DATE:20230911
DTEND;VALUE=DATE:20230912
DTSTAMP:20260423T173155
CREATED:20230817T150800Z
LAST-MODIFIED:20230818T171434Z
UID:10000036-1694390400-1694476799@epworthpreschoolfl.com
SUMMARY:Weekly payments due
DESCRIPTION:
URL:https://epworthpreschoolfl.com/event/weekly-payments-due-2/
END:VEVENT
BEGIN:VEVENT
DTSTART;VALUE=DATE:20230911
DTEND;VALUE=DATE:20230912
DTSTAMP:20260423T173155
CREATED:20230818T173001Z
LAST-MODIFIED:20230830T223059Z
UID:10000060-1694390400-1694476799@epworthpreschoolfl.com
SUMMARY:PE
DESCRIPTION:
URL:https://epworthpreschoolfl.com/event/music-6/
END:VEVENT
BEGIN:VEVENT
DTSTART;VALUE=DATE:20230912
DTEND;VALUE=DATE:20230913
DTSTAMP:20260423T173155
CREATED:20230817T150822Z
LAST-MODIFIED:20230830T223111Z
UID:10000037-1694476800-1694563199@epworthpreschoolfl.com
SUMMARY:Music
DESCRIPTION:
URL:https://epworthpreschoolfl.com/event/pe-7/
END:VEVENT
BEGIN:VEVENT
DTSTART;VALUE=DATE:20230912
DTEND;VALUE=DATE:20230913
DTSTAMP:20260423T173155
CREATED:20230818T173116Z
LAST-MODIFIED:20230818T173116Z
UID:10000061-1694476800-1694563199@epworthpreschoolfl.com
SUMMARY:K2 & K3 Fall picture day
DESCRIPTION:
URL:https://epworthpreschoolfl.com/event/k2-k3-fall-picture-day/
END:VEVENT
BEGIN:VEVENT
DTSTART;VALUE=DATE:20230913
DTEND;VALUE=DATE:20230914
DTSTAMP:20260423T173155
CREATED:20230817T150850Z
LAST-MODIFIED:20230830T223134Z
UID:10000038-1694563200-1694649599@epworthpreschoolfl.com
SUMMARY:PE
DESCRIPTION:
URL:https://epworthpreschoolfl.com/event/music-7/
END:VEVENT
BEGIN:VEVENT
DTSTART;VALUE=DATE:20230913
DTEND;VALUE=DATE:20230914
DTSTAMP:20260423T173155
CREATED:20230818T173204Z
LAST-MODIFIED:20230818T173204Z
UID:10000062-1694563200-1694649599@epworthpreschoolfl.com
SUMMARY:VPK Fall picture day
DESCRIPTION:
URL:https://epworthpreschoolfl.com/event/vpk-fall-picture-day/
END:VEVENT
BEGIN:VEVENT
DTSTART;VALUE=DATE:20230914
DTEND;VALUE=DATE:20230915
DTSTAMP:20260423T173155
CREATED:20230817T150912Z
LAST-MODIFIED:20230817T150912Z
UID:10000039-1694649600-1694735999@epworthpreschoolfl.com
SUMMARY:Chapel 10am Please wear Epworth t-shirt
DESCRIPTION:
URL:https://epworthpreschoolfl.com/event/chapel-10am-please-wear-epworth-t-shirt/
END:VEVENT
BEGIN:VEVENT
DTSTART;VALUE=DATE:20230915
DTEND;VALUE=DATE:20230916
DTSTAMP:20260423T173155
CREATED:20230817T150935Z
LAST-MODIFIED:20230830T223147Z
UID:10000040-1694736000-1694822399@epworthpreschoolfl.com
SUMMARY:Music
DESCRIPTION:
URL:https://epworthpreschoolfl.com/event/pe-8/
END:VEVENT
BEGIN:VEVENT
DTSTART;VALUE=DATE:20230915
DTEND;VALUE=DATE:20230916
DTSTAMP:20260423T173155
CREATED:20230818T173312Z
LAST-MODIFIED:20230818T173312Z
UID:10000063-1694736000-1694822399@epworthpreschoolfl.com
SUMMARY:Show school spirit wear yellow
DESCRIPTION:
URL:https://epworthpreschoolfl.com/event/show-school-spirit-wear-yellow-3/
END:VEVENT
BEGIN:VEVENT
DTSTART;VALUE=DATE:20230918
DTEND;VALUE=DATE:20230919
DTSTAMP:20260423T173155
CREATED:20230817T150956Z
LAST-MODIFIED:20230818T173331Z
UID:10000041-1694995200-1695081599@epworthpreschoolfl.com
SUMMARY:Weekly payment due
DESCRIPTION:
URL:https://epworthpreschoolfl.com/event/weekly-payment-due/
END:VEVENT
BEGIN:VEVENT
DTSTART;VALUE=DATE:20230918
DTEND;VALUE=DATE:20230919
DTSTAMP:20260423T173155
CREATED:20230818T173407Z
LAST-MODIFIED:20230830T223202Z
UID:10000064-1694995200-1695081599@epworthpreschoolfl.com
SUMMARY:PE
DESCRIPTION:
URL:https://epworthpreschoolfl.com/event/music-8/
END:VEVENT
BEGIN:VEVENT
DTSTART;VALUE=DATE:20230919
DTEND;VALUE=DATE:20230920
DTSTAMP:20260423T173155
CREATED:20230817T151007Z
LAST-MODIFIED:20230830T223213Z
UID:10000042-1695081600-1695167999@epworthpreschoolfl.com
SUMMARY:Music
DESCRIPTION:
URL:https://epworthpreschoolfl.com/event/pe-2/
END:VEVENT
BEGIN:VEVENT
DTSTART;VALUE=DATE:20230920
DTEND;VALUE=DATE:20230921
DTSTAMP:20260423T173155
CREATED:20230817T151020Z
LAST-MODIFIED:20230830T223229Z
UID:10000043-1695168000-1695254399@epworthpreschoolfl.com
SUMMARY:PE
DESCRIPTION:
URL:https://epworthpreschoolfl.com/event/music-3/
END:VEVENT
BEGIN:VEVENT
DTSTART;VALUE=DATE:20230921
DTEND;VALUE=DATE:20230922
DTSTAMP:20260423T173155
CREATED:20230817T151044Z
LAST-MODIFIED:20230817T151044Z
UID:10000044-1695254400-1695340799@epworthpreschoolfl.com
SUMMARY:Chapel 10am Please wear Epworth t-shirt
DESCRIPTION:
URL:https://epworthpreschoolfl.com/event/chapel-10am-please-wear-epworth-t-shirt-2/
END:VEVENT
BEGIN:VEVENT
DTSTART;VALUE=DATE:20230922
DTEND;VALUE=DATE:20230923
DTSTAMP:20260423T173155
CREATED:20230817T151101Z
LAST-MODIFIED:20230830T223304Z
UID:10000045-1695340800-1695427199@epworthpreschoolfl.com
SUMMARY:Music
DESCRIPTION:
URL:https://epworthpreschoolfl.com/event/pe-9/
END:VEVENT
BEGIN:VEVENT
DTSTART;VALUE=DATE:20230922
DTEND;VALUE=DATE:20230923
DTSTAMP:20260423T173155
CREATED:20230818T173503Z
LAST-MODIFIED:20230818T173503Z
UID:10000065-1695340800-1695427199@epworthpreschoolfl.com
SUMMARY:Show school spirit wear yellow
DESCRIPTION:
URL:https://epworthpreschoolfl.com/event/pe-show-school-spirit-wear-yellow/
END:VEVENT
BEGIN:VEVENT
DTSTART;VALUE=DATE:20230925
DTEND;VALUE=DATE:20230926
DTSTAMP:20260423T173155
CREATED:20230817T151125Z
LAST-MODIFIED:20230818T173538Z
UID:10000046-1695600000-1695686399@epworthpreschoolfl.com
SUMMARY:Weekly payments due
DESCRIPTION:
URL:https://epworthpreschoolfl.com/event/weekly-payments-due-music-broward-schools-closed-epworth-is-open/
END:VEVENT
BEGIN:VEVENT
DTSTART;VALUE=DATE:20230925
DTEND;VALUE=DATE:20230926
DTSTAMP:20260423T173155
CREATED:20230818T173620Z
LAST-MODIFIED:20230818T173620Z
UID:10000066-1695600000-1695686399@epworthpreschoolfl.com
SUMMARY:Broward Schools closed Epworth is open
DESCRIPTION:
URL:https://epworthpreschoolfl.com/event/weekly-payments-due-music-broward-schools-closed-epworth-is-open-3/
END:VEVENT
END:VCALENDAR