BEGIN:VCALENDAR
VERSION:2.0
PRODID:-//Epworth Pre-School - ECPv6.15.20//NONSGML v1.0//EN
CALSCALE:GREGORIAN
METHOD:PUBLISH
X-WR-CALNAME:Epworth Pre-School
X-ORIGINAL-URL:https://epworthpreschoolfl.com
X-WR-CALDESC:Events for Epworth Pre-School
REFRESH-INTERVAL;VALUE=DURATION:PT1H
X-Robots-Tag:noindex
X-PUBLISHED-TTL:PT1H
BEGIN:VTIMEZONE
TZID:UTC
BEGIN:STANDARD
TZOFFSETFROM:+0000
TZOFFSETTO:+0000
TZNAME:UTC
DTSTART:20220101T000000
END:STANDARD
END:VTIMEZONE
BEGIN:VEVENT
DTSTART;VALUE=DATE:20230820
DTEND;VALUE=DATE:20230821
DTSTAMP:20260423T222257
CREATED:20230809T092745Z
LAST-MODIFIED:20230818T175335Z
UID:10000001-1692489600-1692575999@epworthpreschoolfl.com
SUMMARY:Open House 1-3 pm
DESCRIPTION:
URL:https://epworthpreschoolfl.com/event/open-house-1-3-pm/
END:VEVENT
BEGIN:VEVENT
DTSTART;VALUE=DATE:20230821
DTEND;VALUE=DATE:20230822
DTSTAMP:20260423T222257
CREATED:20230809T092805Z
LAST-MODIFIED:20230818T165553Z
UID:10000002-1692576000-1692662399@epworthpreschoolfl.com
SUMMARY:1st day of school
DESCRIPTION:
URL:https://epworthpreschoolfl.com/event/first-day-of-school/
END:VEVENT
BEGIN:VEVENT
DTSTART;VALUE=DATE:20230821
DTEND;VALUE=DATE:20230822
DTSTAMP:20260423T222257
CREATED:20230818T165408Z
LAST-MODIFIED:20230818T165408Z
UID:10000052-1692576000-1692662399@epworthpreschoolfl.com
SUMMARY:Monthly payments due
DESCRIPTION:
URL:https://epworthpreschoolfl.com/event/first-day-of-school-2/
END:VEVENT
BEGIN:VEVENT
DTSTART;VALUE=DATE:20230821
DTEND;VALUE=DATE:20230822
DTSTAMP:20260423T222257
CREATED:20230818T165444Z
LAST-MODIFIED:20230818T165444Z
UID:10000053-1692576000-1692662399@epworthpreschoolfl.com
SUMMARY:Weekly payments due
DESCRIPTION:
URL:https://epworthpreschoolfl.com/event/first-day-of-school-3/
END:VEVENT
BEGIN:VEVENT
DTSTART;VALUE=DATE:20230828
DTEND;VALUE=DATE:20230829
DTSTAMP:20260423T222257
CREATED:20230817T145815Z
LAST-MODIFIED:20230830T222533Z
UID:10000026-1693180800-1693267199@epworthpreschoolfl.com
SUMMARY:PE
DESCRIPTION:
URL:https://epworthpreschoolfl.com/event/music-5/
END:VEVENT
BEGIN:VEVENT
DTSTART;VALUE=DATE:20230828
DTEND;VALUE=DATE:20230829
DTSTAMP:20260423T222257
CREATED:20230818T165518Z
LAST-MODIFIED:20230818T165518Z
UID:10000054-1693180800-1693267199@epworthpreschoolfl.com
SUMMARY:Weekly payments due
DESCRIPTION:
URL:https://epworthpreschoolfl.com/event/music-weekly-payments-due-2/
END:VEVENT
BEGIN:VEVENT
DTSTART;VALUE=DATE:20230829
DTEND;VALUE=DATE:20230830
DTSTAMP:20260423T222257
CREATED:20230817T145837Z
LAST-MODIFIED:20230830T222725Z
UID:10000027-1693267200-1693353599@epworthpreschoolfl.com
SUMMARY:Music
DESCRIPTION:
URL:https://epworthpreschoolfl.com/event/pe/
END:VEVENT
BEGIN:VEVENT
DTSTART;VALUE=DATE:20230830
DTEND;VALUE=DATE:20230831
DTSTAMP:20260423T222257
CREATED:20230817T150005Z
LAST-MODIFIED:20230830T222748Z
UID:10000028-1693353600-1693439999@epworthpreschoolfl.com
SUMMARY:PE
DESCRIPTION:
URL:https://epworthpreschoolfl.com/event/music/
END:VEVENT
BEGIN:VEVENT
DTSTART;VALUE=DATE:20230831
DTEND;VALUE=DATE:20230901
DTSTAMP:20260423T222257
CREATED:20230817T150039Z
LAST-MODIFIED:20230817T203929Z
UID:10000029-1693440000-1693526399@epworthpreschoolfl.com
SUMMARY:Chapel 10 am Please wear Epworth T-Shirt
DESCRIPTION:
URL:https://epworthpreschoolfl.com/event/chapel-10-am-please-wear-epworth-t-shirt/
END:VEVENT
END:VCALENDAR